BEGIN:VCALENDAR
VERSION:2.0
PRODID:-//The Square - ECPv6.15.20//NONSGML v1.0//EN
CALSCALE:GREGORIAN
METHOD:PUBLISH
X-WR-CALNAME:The Square
X-ORIGINAL-URL:https://www.thesquarepdx.org
X-WR-CALDESC:Events for The Square
REFRESH-INTERVAL;VALUE=DURATION:PT1H
X-Robots-Tag:noindex
X-PUBLISHED-TTL:PT1H
BEGIN:VTIMEZONE
TZID:America/Los_Angeles
BEGIN:DAYLIGHT
TZOFFSETFROM:-0800
TZOFFSETTO:-0700
TZNAME:PDT
DTSTART:20200308T100000
END:DAYLIGHT
BEGIN:STANDARD
TZOFFSETFROM:-0700
TZOFFSETTO:-0800
TZNAME:PST
DTSTART:20201101T090000
END:STANDARD
BEGIN:DAYLIGHT
TZOFFSETFROM:-0800
TZOFFSETTO:-0700
TZNAME:PDT
DTSTART:20210314T100000
END:DAYLIGHT
BEGIN:STANDARD
TZOFFSETFROM:-0700
TZOFFSETTO:-0800
TZNAME:PST
DTSTART:20211107T090000
END:STANDARD
BEGIN:DAYLIGHT
TZOFFSETFROM:-0800
TZOFFSETTO:-0700
TZNAME:PDT
DTSTART:20220313T100000
END:DAYLIGHT
BEGIN:STANDARD
TZOFFSETFROM:-0700
TZOFFSETTO:-0800
TZNAME:PST
DTSTART:20221106T090000
END:STANDARD
END:VTIMEZONE
BEGIN:VEVENT
DTSTART;TZID=America/Los_Angeles:20210719T100000
DTEND;TZID=America/Los_Angeles:20210719T103000
DTSTAMP:20260425T212307
CREATED:20210702T215738Z
LAST-MODIFIED:20210708T192012Z
UID:12265-1626688800-1626690600@www.thesquarepdx.org
SUMMARY:Meditation at Polka Dot Downtown
DESCRIPTION:Pause Meditation will be hosting a weekly meditation series on the dots at Pioneer Courthouse Square over the summer! Learn simple\, science-backed practices that train your mind so you can live a happier\, healthier\, more fulfilling life. \nPlease RSVP for FREE to reserve your spot!
URL:https://www.thesquarepdx.org/event/meditation-at-polka-dot-downtown-2/
LOCATION:Pioneer Courthouse Square\, 701 SW 6th Ave.\, Portland\, OR\, 97204\, United States
ATTACH;FMTTYPE=image/png:https://www.thesquarepdx.org/wp-content/uploads/2021/07/Pause-Logo-Square.png
END:VEVENT
BEGIN:VEVENT
DTSTART;TZID=America/Los_Angeles:20210719T113000
DTEND;TZID=America/Los_Angeles:20210719T123000
DTSTAMP:20260425T212307
CREATED:20210529T011001Z
LAST-MODIFIED:20210612T021639Z
UID:11867-1626694200-1626697800@www.thesquarepdx.org
SUMMARY:Robert Meade at Polka Dot Downtown
DESCRIPTION:Robert Meade will be performing on the dots at the Union Bank Building over the lunch hour! \nPerformances will be shared virtually on Facebook\, Instagram\, and at PolkaDotDowntown.org.
URL:https://www.thesquarepdx.org/event/robert-meade-at-polka-dot-downtown-6/
LOCATION:Union Bank Building\, 407 SW Broadway St.\, Portland\, OR\, 97205\, United States
ATTACH;FMTTYPE=image/jpeg:https://www.thesquarepdx.org/wp-content/uploads/2021/02/SJW_0685-scaled.jpg
END:VEVENT
BEGIN:VEVENT
DTSTART;TZID=America/Los_Angeles:20210719T120000
DTEND;TZID=America/Los_Angeles:20210719T130000
DTSTAMP:20260425T212307
CREATED:20210612T024729Z
LAST-MODIFIED:20210618T234217Z
UID:12062-1626696000-1626699600@www.thesquarepdx.org
SUMMARY:Pablo Rivarola at Polka Dot Downtown
DESCRIPTION:Jazz trumpeter Pablo Rivarola will be performing on the dots at Pioneer Courthouse Square over the lunch hour! \nPerformances will be shared virtually on Facebook\, Instagram\, and at PolkaDotDowntown.org.
URL:https://www.thesquarepdx.org/event/pablo-rivarola-at-polka-dot-downtown/
LOCATION:Pioneer Courthouse Square\, 701 SW 6th Ave.\, Portland\, OR\, 97204\, United States
ATTACH;FMTTYPE=image/jpeg:https://www.thesquarepdx.org/wp-content/uploads/2021/06/Pablo_Rivarola.jpg
END:VEVENT
END:VCALENDAR