BEGIN:VCALENDAR
VERSION:2.0
PRODID:-//The Square - ECPv6.15.20//NONSGML v1.0//EN
CALSCALE:GREGORIAN
METHOD:PUBLISH
X-ORIGINAL-URL:https://www.thesquarepdx.org
X-WR-CALDESC:Events for The Square
REFRESH-INTERVAL;VALUE=DURATION:PT1H
X-Robots-Tag:noindex
X-PUBLISHED-TTL:PT1H
BEGIN:VTIMEZONE
TZID:America/Los_Angeles
BEGIN:DAYLIGHT
TZOFFSETFROM:-0800
TZOFFSETTO:-0700
TZNAME:PDT
DTSTART:20200308T100000
END:DAYLIGHT
BEGIN:STANDARD
TZOFFSETFROM:-0700
TZOFFSETTO:-0800
TZNAME:PST
DTSTART:20201101T090000
END:STANDARD
BEGIN:DAYLIGHT
TZOFFSETFROM:-0800
TZOFFSETTO:-0700
TZNAME:PDT
DTSTART:20210314T100000
END:DAYLIGHT
BEGIN:STANDARD
TZOFFSETFROM:-0700
TZOFFSETTO:-0800
TZNAME:PST
DTSTART:20211107T090000
END:STANDARD
BEGIN:DAYLIGHT
TZOFFSETFROM:-0800
TZOFFSETTO:-0700
TZNAME:PDT
DTSTART:20220313T100000
END:DAYLIGHT
BEGIN:STANDARD
TZOFFSETFROM:-0700
TZOFFSETTO:-0800
TZNAME:PST
DTSTART:20221106T090000
END:STANDARD
END:VTIMEZONE
BEGIN:VEVENT
DTSTART;TZID=America/Los_Angeles:20210802T100000
DTEND;TZID=America/Los_Angeles:20210802T103000
DTSTAMP:20260421T080049
CREATED:20210702T220042Z
LAST-MODIFIED:20210728T190832Z
UID:12270-1627898400-1627900200@www.thesquarepdx.org
SUMMARY:Meditation at Polka Dot Downtown
DESCRIPTION:Pause Meditation will be hosting a weekly meditation series on the dots at Pioneer Courthouse Square over the summer! Learn simple\, science-backed practices that train your mind so you can live a happier\, healthier\, more fulfilling life. \nPlease RSVP for FREE to reserve your spot!
URL:https://www.thesquarepdx.org/event/meditation-at-polka-dot-downtown-4/
LOCATION:Pioneer Courthouse Square\, 701 SW 6th Ave.\, Portland\, OR\, 97204\, United States
ATTACH;FMTTYPE=image/jpeg:https://www.thesquarepdx.org/wp-content/uploads/2021/07/Pause_Meditation.jpeg
END:VEVENT
BEGIN:VEVENT
DTSTART;TZID=America/Los_Angeles:20210802T113000
DTEND;TZID=America/Los_Angeles:20210802T123000
DTSTAMP:20260421T080049
CREATED:20210702T003258Z
LAST-MODIFIED:20210702T003258Z
UID:12222-1627903800-1627907400@www.thesquarepdx.org
SUMMARY:Joe McKay at Polka Dot Downtown
DESCRIPTION:Joe McKay will be performing on the dots at SW 6th + Main over the lunch hour! \nPerformances will be shared virtually on Facebook\, Instagram\, and at PolkaDotDowntown.org.
URL:https://www.thesquarepdx.org/event/joe-mckay-at-polka-dot-downtown/
LOCATION:SW 6th Ave & SW Main St\, Portland\, OR 97205\, SW 6th Ave & SW Main St\, Portland\, OR\, 97205\, United States
ATTACH;FMTTYPE=image/jpeg:https://www.thesquarepdx.org/wp-content/uploads/2021/06/SJW_0685-scaled.jpg
END:VEVENT
BEGIN:VEVENT
DTSTART;TZID=America/Los_Angeles:20210802T120000
DTEND;TZID=America/Los_Angeles:20210802T130000
DTSTAMP:20260421T080049
CREATED:20210730T022542Z
LAST-MODIFIED:20210730T022542Z
UID:12620-1627905600-1627909200@www.thesquarepdx.org
SUMMARY:Jennifer O'Leary and Tim Uecker at Polka Dot Downtown
DESCRIPTION:Singers Jennifer O’Leary and Tim Uecker will be performing on the dots at Pioneer Courthouse Square over the lunch hour! \nPerformances will be shared virtually on Facebook\, Instagram\, and at PolkaDotDowntown.org.
URL:https://www.thesquarepdx.org/event/jennifer-oleary-and-tim-uecker-at-polka-dot-downtown/
LOCATION:Pioneer Courthouse Square\, 701 SW 6th Ave.\, Portland\, OR\, 97204\, United States
ATTACH;FMTTYPE=image/jpeg:https://www.thesquarepdx.org/wp-content/uploads/2021/03/Jennifer-OLeary-Tim-Uecker-scaled.jpg
END:VEVENT
END:VCALENDAR