BEGIN:VCALENDAR
VERSION:2.0
PRODID:-//The Square - ECPv6.15.20//NONSGML v1.0//EN
CALSCALE:GREGORIAN
METHOD:PUBLISH
X-ORIGINAL-URL:https://www.thesquarepdx.org
X-WR-CALDESC:Events for The Square
REFRESH-INTERVAL;VALUE=DURATION:PT1H
X-Robots-Tag:noindex
X-PUBLISHED-TTL:PT1H
BEGIN:VTIMEZONE
TZID:America/Los_Angeles
BEGIN:DAYLIGHT
TZOFFSETFROM:-0800
TZOFFSETTO:-0700
TZNAME:PDT
DTSTART:20200308T100000
END:DAYLIGHT
BEGIN:STANDARD
TZOFFSETFROM:-0700
TZOFFSETTO:-0800
TZNAME:PST
DTSTART:20201101T090000
END:STANDARD
BEGIN:DAYLIGHT
TZOFFSETFROM:-0800
TZOFFSETTO:-0700
TZNAME:PDT
DTSTART:20210314T100000
END:DAYLIGHT
BEGIN:STANDARD
TZOFFSETFROM:-0700
TZOFFSETTO:-0800
TZNAME:PST
DTSTART:20211107T090000
END:STANDARD
BEGIN:DAYLIGHT
TZOFFSETFROM:-0800
TZOFFSETTO:-0700
TZNAME:PDT
DTSTART:20220313T100000
END:DAYLIGHT
BEGIN:STANDARD
TZOFFSETFROM:-0700
TZOFFSETTO:-0800
TZNAME:PST
DTSTART:20221106T090000
END:STANDARD
END:VTIMEZONE
BEGIN:VEVENT
DTSTART;TZID=America/Los_Angeles:20211202T120000
DTEND;TZID=America/Los_Angeles:20211202T130000
DTSTAMP:20260425T112651
CREATED:20210909T235949Z
LAST-MODIFIED:20211125T014500Z
UID:12882-1638446400-1638450000@www.thesquarepdx.org
SUMMARY:Holidays on the Mall - Pablo Rivarola at Ben Bridge Jewelers
DESCRIPTION:Jazz trumpeter Pablo Rivarola will be performing holiday music at Ben Bridge Jewelers on the mobile dot sponsored by SmartPark! \nFor more information\, CLICK HERE
URL:https://www.thesquarepdx.org/event/pablo-rivarola-at-polka-dot-downtown-5/
LOCATION:Ben Bridge Jewelers\, 801 SW 5th Ave\, Portland\, OR\, 97204\, United States
ATTACH;FMTTYPE=image/jpeg:https://www.thesquarepdx.org/wp-content/uploads/2021/06/Pablo_Rivarola.jpg
END:VEVENT
BEGIN:VEVENT
DTSTART;TZID=America/Los_Angeles:20211202T120000
DTEND;TZID=America/Los_Angeles:20211202T130000
DTSTAMP:20260425T112651
CREATED:20211125T013605Z
LAST-MODIFIED:20211125T013605Z
UID:13185-1638446400-1638450000@www.thesquarepdx.org
SUMMARY:Megan McGeorge – Holiday Performances at the Square
DESCRIPTION:Pianist Megan McGeorge will be will be performing holiday music in the Square! \nFor more information\, CLICK HERE.
URL:https://www.thesquarepdx.org/event/megan-mcgeorge-holiday-performances-at-the-square/
LOCATION:Pioneer Courthouse Square\, 701 SW 6th Ave.\, Portland\, OR\, 97204\, United States
ATTACH;FMTTYPE=image/jpeg:https://www.thesquarepdx.org/wp-content/uploads/2021/11/PSTP-7_resized.jpg
END:VEVENT
BEGIN:VEVENT
DTSTART;TZID=America/Los_Angeles:20211202T173000
DTEND;TZID=America/Los_Angeles:20211202T180000
DTSTAMP:20260425T112651
CREATED:20211026T235619Z
LAST-MODIFIED:20211026T235619Z
UID:12975-1638466200-1638468000@www.thesquarepdx.org
SUMMARY:Portland's Public Menorah at Pioneer Courthouse Square
DESCRIPTION:Chabad of Oregon will light Portland’s Public Hanukkah menorah at Pioneer Courthouse Square\, Sunday November 28th – Sunday December 5th. \nFor more information about Hanukkah and a local schedule of events visit CLICK HERE.
URL:https://www.thesquarepdx.org/event/portlands-public-menorah-at-pioneer-courthouse-square-3/
LOCATION:Pioneer Courthouse Square\, 701 SW 6th Ave.\, Portland\, OR\, 97204\, United States
ATTACH;FMTTYPE=image/jpeg:https://www.thesquarepdx.org/wp-content/uploads/2020/12/Image-1.jpg
END:VEVENT
END:VCALENDAR