BEGIN:VCALENDAR
VERSION:2.0
PRODID:-//The Square - ECPv6.15.20//NONSGML v1.0//EN
CALSCALE:GREGORIAN
METHOD:PUBLISH
X-WR-CALNAME:The Square
X-ORIGINAL-URL:https://www.thesquarepdx.org
X-WR-CALDESC:Events for The Square
REFRESH-INTERVAL;VALUE=DURATION:PT1H
X-Robots-Tag:noindex
X-PUBLISHED-TTL:PT1H
BEGIN:VTIMEZONE
TZID:America/Los_Angeles
BEGIN:DAYLIGHT
TZOFFSETFROM:-0800
TZOFFSETTO:-0700
TZNAME:PDT
DTSTART:20210314T100000
END:DAYLIGHT
BEGIN:STANDARD
TZOFFSETFROM:-0700
TZOFFSETTO:-0800
TZNAME:PST
DTSTART:20211107T090000
END:STANDARD
BEGIN:DAYLIGHT
TZOFFSETFROM:-0800
TZOFFSETTO:-0700
TZNAME:PDT
DTSTART:20220313T100000
END:DAYLIGHT
BEGIN:STANDARD
TZOFFSETFROM:-0700
TZOFFSETTO:-0800
TZNAME:PST
DTSTART:20221106T090000
END:STANDARD
BEGIN:DAYLIGHT
TZOFFSETFROM:-0800
TZOFFSETTO:-0700
TZNAME:PDT
DTSTART:20230312T100000
END:DAYLIGHT
BEGIN:STANDARD
TZOFFSETFROM:-0700
TZOFFSETTO:-0800
TZNAME:PST
DTSTART:20231105T090000
END:STANDARD
END:VTIMEZONE
BEGIN:VEVENT
DTSTART;TZID=America/Los_Angeles:20220427T080000
DTEND;TZID=America/Los_Angeles:20220517T200000
DTSTAMP:20260422T025431
CREATED:20220321T232832Z
LAST-MODIFIED:20220321T232832Z
UID:13896-1651046400-1652817600@www.thesquarepdx.org
SUMMARY:May 2022 Primary Election Ballot Box
DESCRIPTION:Turn in your ballot for the upcoming primary election at the Square between April 27th at 8am and May 17th at 8pm. The ballot box is located near the corner of Broadway and Yamhill. For more information visit multco.us/elections.
URL:https://www.thesquarepdx.org/event/may-2022-primary-election-ballot-box/
LOCATION:Pioneer Courthouse Square\, 701 SW 6th Ave.\, Portland\, OR\, 97204\, United States
ATTACH;FMTTYPE=image/jpeg:https://www.thesquarepdx.org/wp-content/uploads/2018/10/43950433_10157311547259316_4551727338672357376_o.jpg
END:VEVENT
BEGIN:VEVENT
DTSTART;TZID=America/Los_Angeles:20220514T120000
DTEND;TZID=America/Los_Angeles:20220514T150000
DTSTAMP:20260422T025431
CREATED:20220512T155151Z
LAST-MODIFIED:20220512T161236Z
UID:14335-1652529600-1652540400@www.thesquarepdx.org
SUMMARY:Waterfront Blues Festival Community Concert
DESCRIPTION:The Waterfront Blues Festival is proud to present a free Community Concert with some of Portland’s favorite soul\, funk and blues artists. Join us for an awesome afternoon of music with Portland legends the LaRhonda Steele Band with Norman Sylvester\, funk-soul stars Outer Orbit with Sarah Clarke and slick strummin’ Tevis Hodge Jr. This all star lineup is part of the Blues Festival’s series of Community Concerts leading up to the festival’s 35th anniversary in downtown Portland’s Waterfront Park\, July 1-4. Come dance in the dome and celebrate the blues! For more information\, CLICK HERE.
URL:https://www.thesquarepdx.org/event/waterfront-blues-festival-community-concert/
LOCATION:Pioneer Courthouse Square\, 701 SW 6th Ave.\, Portland\, OR\, 97204\, United States
CATEGORIES:Dome Events
ATTACH;FMTTYPE=image/png:https://www.thesquarepdx.org/wp-content/uploads/2022/05/WBF_2022_Logo_Evergreen_Blue-Christina-Fuller.png
END:VEVENT
END:VCALENDAR