BEGIN:VCALENDAR
VERSION:2.0
PRODID:-//The Square - ECPv6.15.20//NONSGML v1.0//EN
CALSCALE:GREGORIAN
METHOD:PUBLISH
X-WR-CALNAME:The Square
X-ORIGINAL-URL:https://www.thesquarepdx.org
X-WR-CALDESC:Events for The Square
REFRESH-INTERVAL;VALUE=DURATION:PT1H
X-Robots-Tag:noindex
X-PUBLISHED-TTL:PT1H
BEGIN:VTIMEZONE
TZID:America/Los_Angeles
BEGIN:DAYLIGHT
TZOFFSETFROM:-0800
TZOFFSETTO:-0700
TZNAME:PDT
DTSTART:20220313T100000
END:DAYLIGHT
BEGIN:STANDARD
TZOFFSETFROM:-0700
TZOFFSETTO:-0800
TZNAME:PST
DTSTART:20221106T090000
END:STANDARD
BEGIN:DAYLIGHT
TZOFFSETFROM:-0800
TZOFFSETTO:-0700
TZNAME:PDT
DTSTART:20230312T100000
END:DAYLIGHT
BEGIN:STANDARD
TZOFFSETFROM:-0700
TZOFFSETTO:-0800
TZNAME:PST
DTSTART:20231105T090000
END:STANDARD
BEGIN:DAYLIGHT
TZOFFSETFROM:-0800
TZOFFSETTO:-0700
TZNAME:PDT
DTSTART:20240310T100000
END:DAYLIGHT
BEGIN:STANDARD
TZOFFSETFROM:-0700
TZOFFSETTO:-0800
TZNAME:PST
DTSTART:20241103T090000
END:STANDARD
END:VTIMEZONE
BEGIN:VEVENT
DTSTART;TZID=America/Los_Angeles:20230710T120000
DTEND;TZID=America/Los_Angeles:20230710T130000
DTSTAMP:20260419T062240
CREATED:20230705T230857Z
LAST-MODIFIED:20230707T192828Z
UID:16373-1688990400-1688994000@www.thesquarepdx.org
SUMMARY:Mondays on the Mall – Rainezra at Sixth + Main
DESCRIPTION:Rainezra will be performing at Sixth + Main on the Transit Mall! \nFor more information\, CLICK HERE.
URL:https://www.thesquarepdx.org/event/mondays-on-the-mall-rain-ezra-at-sixth-main/
LOCATION:SW 6th Ave & SW Main St\, Portland\, OR 97205\, SW 6th Ave & SW Main St\, Portland\, OR\, 97205\, United States
END:VEVENT
BEGIN:VEVENT
DTSTART;TZID=America/Los_Angeles:20230710T120000
DTEND;TZID=America/Los_Angeles:20230710T140000
DTSTAMP:20260419T062240
CREATED:20230703T233716Z
LAST-MODIFIED:20230706T231122Z
UID:16342-1688990400-1688997600@www.thesquarepdx.org
SUMMARY:Mondays on the Mall – Giant Bubble Show at US Bancorp Tower
DESCRIPTION:Join us for a mesmerizing giant bubble show by PDX Parties. Portland’s most experienced bubble performer will create thousands of bubbles\, some several feet wide and yards long. Young viewers will be welcome to pop as many bubbles as they can during the performance. \n 
URL:https://www.thesquarepdx.org/event/giant-bubble-show/
LOCATION:Big Pink\, 111 SW 5th Ave #1250\, Portland\, OR\, 97204\, United States
ATTACH;FMTTYPE=image/jpeg:https://www.thesquarepdx.org/wp-content/uploads/2023/07/PDX-Parties-Bubble-Show-D.jpg
END:VEVENT
END:VCALENDAR