BEGIN:VCALENDAR
VERSION:2.0
PRODID:-//The Square - ECPv6.15.20//NONSGML v1.0//EN
CALSCALE:GREGORIAN
METHOD:PUBLISH
X-ORIGINAL-URL:https://www.thesquarepdx.org
X-WR-CALDESC:Events for The Square
REFRESH-INTERVAL;VALUE=DURATION:PT1H
X-Robots-Tag:noindex
X-PUBLISHED-TTL:PT1H
BEGIN:VTIMEZONE
TZID:America/Los_Angeles
BEGIN:DAYLIGHT
TZOFFSETFROM:-0800
TZOFFSETTO:-0700
TZNAME:PDT
DTSTART:20220313T100000
END:DAYLIGHT
BEGIN:STANDARD
TZOFFSETFROM:-0700
TZOFFSETTO:-0800
TZNAME:PST
DTSTART:20221106T090000
END:STANDARD
BEGIN:DAYLIGHT
TZOFFSETFROM:-0800
TZOFFSETTO:-0700
TZNAME:PDT
DTSTART:20230312T100000
END:DAYLIGHT
BEGIN:STANDARD
TZOFFSETFROM:-0700
TZOFFSETTO:-0800
TZNAME:PST
DTSTART:20231105T090000
END:STANDARD
BEGIN:DAYLIGHT
TZOFFSETFROM:-0800
TZOFFSETTO:-0700
TZNAME:PDT
DTSTART:20240310T100000
END:DAYLIGHT
BEGIN:STANDARD
TZOFFSETFROM:-0700
TZOFFSETTO:-0800
TZNAME:PST
DTSTART:20241103T090000
END:STANDARD
END:VTIMEZONE
BEGIN:VEVENT
DTSTART;TZID=America/Los_Angeles:20230711T120000
DTEND;TZID=America/Los_Angeles:20230711T130000
DTSTAMP:20260419T191431
CREATED:20230426T182736Z
LAST-MODIFIED:20230601T205335Z
UID:16042-1689076800-1689080400@www.thesquarepdx.org
SUMMARY:Noon Tunes Summer Concert Series Presented by 101.9 KINK
DESCRIPTION:JT Wise Band will be performing at Noon Tunes over the lunch hour! \nGuitar driven songwriters combining the genres of blues\, rock\, and country into their own Americana sound. JT and wife Maggie Wise write\, record and self produce their music. Accomplishing all technical aspects on their own. Music is available on streaming services such as Spotify\, Apples\, etc… They are also frequent NW performers with their acoustic duo and rock’n trio. \nThe Noon Tunes Summer Concert Series returns for its 31st year on Tuesdays throughout June and July! From noon-1:00pm enjoy music from some of Portland’s best regional and local musical talent. With seven FREE concerts\, dancing\, and some of Portland’s favorite food vendors at Carts on the Square\, Portland’s Living Room is sure to be Downtown’s summer lunchtime destination. \nUpcoming Concerts: \nJuly 18th – John Nilsen & Swimfish\nJuly 25th – Katalysst
URL:https://www.thesquarepdx.org/event/noon-tunes-summer-concert-series-3-2023-07-11/
LOCATION:OR
ATTACH;FMTTYPE=image/jpeg:https://www.thesquarepdx.org/wp-content/uploads/2023/04/IMG_0672-2.jpg
END:VEVENT
END:VCALENDAR