BEGIN:VCALENDAR
VERSION:2.0
PRODID:-//The Square - ECPv6.15.20//NONSGML v1.0//EN
CALSCALE:GREGORIAN
METHOD:PUBLISH
X-WR-CALNAME:The Square
X-ORIGINAL-URL:https://www.thesquarepdx.org
X-WR-CALDESC:Events for The Square
REFRESH-INTERVAL;VALUE=DURATION:PT1H
X-Robots-Tag:noindex
X-PUBLISHED-TTL:PT1H
BEGIN:VTIMEZONE
TZID:America/Los_Angeles
BEGIN:DAYLIGHT
TZOFFSETFROM:-0800
TZOFFSETTO:-0700
TZNAME:PDT
DTSTART:20220313T100000
END:DAYLIGHT
BEGIN:STANDARD
TZOFFSETFROM:-0700
TZOFFSETTO:-0800
TZNAME:PST
DTSTART:20221106T090000
END:STANDARD
BEGIN:DAYLIGHT
TZOFFSETFROM:-0800
TZOFFSETTO:-0700
TZNAME:PDT
DTSTART:20230312T100000
END:DAYLIGHT
BEGIN:STANDARD
TZOFFSETFROM:-0700
TZOFFSETTO:-0800
TZNAME:PST
DTSTART:20231105T090000
END:STANDARD
BEGIN:DAYLIGHT
TZOFFSETFROM:-0800
TZOFFSETTO:-0700
TZNAME:PDT
DTSTART:20240310T100000
END:DAYLIGHT
BEGIN:STANDARD
TZOFFSETFROM:-0700
TZOFFSETTO:-0800
TZNAME:PST
DTSTART:20241103T090000
END:STANDARD
END:VTIMEZONE
BEGIN:VEVENT
DTSTART;VALUE=DATE:20231207
DTEND;VALUE=DATE:20231216
DTSTAMP:20260419T150857
CREATED:20231107T201118Z
LAST-MODIFIED:20231107T201118Z
UID:16636-1701907200-1702684799@www.thesquarepdx.org
SUMMARY:Portland’s Public Menorah at Pioneer Courthouse Square
DESCRIPTION:Chabad of Oregon will light Portland’s Public Hanukkah menorah at Pioneer Courthouse Square each night of Chanukah. \nFor more information about Chanukah and a local schedule of events visit CLICK HERE.
URL:https://www.thesquarepdx.org/event/portlands-public-menorah-at-pioneer-courthouse-square-10/
LOCATION:Pioneer Courthouse Square\, 701 SW 6th Ave.\, Portland\, OR\, 97204\, United States
ATTACH;FMTTYPE=image/jpeg:https://www.thesquarepdx.org/wp-content/uploads/2020/12/Image-1.jpg
END:VEVENT
BEGIN:VEVENT
DTSTART;TZID=America/Los_Angeles:20231210T120000
DTEND;TZID=America/Los_Angeles:20231210T130000
DTSTAMP:20260419T150857
CREATED:20231201T034917Z
LAST-MODIFIED:20231201T040137Z
UID:16815-1702209600-1702213200@www.thesquarepdx.org
SUMMARY:Dance Fusion Northwest – Holiday Performances at The Square
DESCRIPTION:Dance Fusion Northwest will be will be performing to holiday music in The Square! \nFor more information\, CLICK HERE.
URL:https://www.thesquarepdx.org/event/dance-fusion-northwest-holiday-performances-at-the-square-3/
LOCATION:Pioneer Courthouse Square\, 701 SW 6th Ave.\, Portland\, OR\, 97204\, United States
ATTACH;FMTTYPE=image/jpeg:https://www.thesquarepdx.org/wp-content/uploads/2021/11/PSTP-7_resized.jpg
END:VEVENT
END:VCALENDAR