BEGIN:VCALENDAR
VERSION:2.0
PRODID:-//The Square - ECPv6.15.20//NONSGML v1.0//EN
CALSCALE:GREGORIAN
METHOD:PUBLISH
X-ORIGINAL-URL:https://www.thesquarepdx.org
X-WR-CALDESC:Events for The Square
REFRESH-INTERVAL;VALUE=DURATION:PT1H
X-Robots-Tag:noindex
X-PUBLISHED-TTL:PT1H
BEGIN:VTIMEZONE
TZID:America/Los_Angeles
BEGIN:DAYLIGHT
TZOFFSETFROM:-0800
TZOFFSETTO:-0700
TZNAME:PDT
DTSTART:20220313T100000
END:DAYLIGHT
BEGIN:STANDARD
TZOFFSETFROM:-0700
TZOFFSETTO:-0800
TZNAME:PST
DTSTART:20221106T090000
END:STANDARD
BEGIN:DAYLIGHT
TZOFFSETFROM:-0800
TZOFFSETTO:-0700
TZNAME:PDT
DTSTART:20230312T100000
END:DAYLIGHT
BEGIN:STANDARD
TZOFFSETFROM:-0700
TZOFFSETTO:-0800
TZNAME:PST
DTSTART:20231105T090000
END:STANDARD
BEGIN:DAYLIGHT
TZOFFSETFROM:-0800
TZOFFSETTO:-0700
TZNAME:PDT
DTSTART:20240310T100000
END:DAYLIGHT
BEGIN:STANDARD
TZOFFSETFROM:-0700
TZOFFSETTO:-0800
TZNAME:PST
DTSTART:20241103T090000
END:STANDARD
END:VTIMEZONE
BEGIN:VEVENT
DTSTART;TZID=America/Los_Angeles:20231223T120000
DTEND;TZID=America/Los_Angeles:20231223T130000
DTSTAMP:20260425T201522
CREATED:20231201T032954Z
LAST-MODIFIED:20231201T032954Z
UID:16811-1703332800-1703336400@www.thesquarepdx.org
SUMMARY:Holidays on Downtown’s Transit Mall
DESCRIPTION:The Square and Portland Mall Management bring musicians Shasta Tresan & Jesse Dammann to perform holiday music in front of Pioneer Place at Tory Burch! \n \nIn partnership with Waterfront Blues Festival
URL:https://www.thesquarepdx.org/event/holidays-on-downtowns-transit-mall-15/
LOCATION:Pioneer Place\, 700 SW 5th Ave\, Portland\, OR\, 97204\, United States
END:VEVENT
BEGIN:VEVENT
DTSTART;TZID=America/Los_Angeles:20231223T120000
DTEND;TZID=America/Los_Angeles:20231223T130000
DTSTAMP:20260425T201522
CREATED:20231201T034509Z
LAST-MODIFIED:20231201T040616Z
UID:16822-1703332800-1703336400@www.thesquarepdx.org
SUMMARY:La Luz Del Mundo – Holiday Performances at The Square
DESCRIPTION:La Luz Del Mundo will perform holiday carols in both English and Spanish in The Square! \n 
URL:https://www.thesquarepdx.org/event/la-luz-del-mundo-holiday-performances-at-the-square/
LOCATION:Pioneer Courthouse Square\, 701 SW 6th Ave.\, Portland\, OR\, 97204\, United States
ATTACH;FMTTYPE=image/jpeg:https://www.thesquarepdx.org/wp-content/uploads/2021/11/PSTP-7_resized.jpg
END:VEVENT
BEGIN:VEVENT
DTSTART;TZID=America/Los_Angeles:20231223T170000
DTEND;TZID=America/Los_Angeles:20231223T180000
DTSTAMP:20260425T201522
CREATED:20231201T182956Z
LAST-MODIFIED:20231221T183401Z
UID:16791-1703350800-1703354400@www.thesquarepdx.org
SUMMARY:Holidays on Downtown’s Transit Mall
DESCRIPTION:The Square and Portland Mall Management bring The Stumptown Holiday Soul Allstars  to perform holiday music at The Square! \n \nIn partnership with Waterfront Blues Festival
URL:https://www.thesquarepdx.org/event/holidays-on-downtowns-transit-mall-16/
LOCATION:Pioneer Courthouse Square\, 701 SW 6th Ave.\, Portland\, OR\, 97204\, United States
END:VEVENT
END:VCALENDAR