BEGIN:VCALENDAR
VERSION:2.0
PRODID:-//The Square - ECPv6.15.20//NONSGML v1.0//EN
CALSCALE:GREGORIAN
METHOD:PUBLISH
X-WR-CALNAME:The Square
X-ORIGINAL-URL:https://www.thesquarepdx.org
X-WR-CALDESC:Events for The Square
REFRESH-INTERVAL;VALUE=DURATION:PT1H
X-Robots-Tag:noindex
X-PUBLISHED-TTL:PT1H
BEGIN:VTIMEZONE
TZID:America/Los_Angeles
BEGIN:DAYLIGHT
TZOFFSETFROM:-0800
TZOFFSETTO:-0700
TZNAME:PDT
DTSTART:20240310T100000
END:DAYLIGHT
BEGIN:STANDARD
TZOFFSETFROM:-0700
TZOFFSETTO:-0800
TZNAME:PST
DTSTART:20241103T090000
END:STANDARD
BEGIN:DAYLIGHT
TZOFFSETFROM:-0800
TZOFFSETTO:-0700
TZNAME:PDT
DTSTART:20250309T100000
END:DAYLIGHT
BEGIN:STANDARD
TZOFFSETFROM:-0700
TZOFFSETTO:-0800
TZNAME:PST
DTSTART:20251102T090000
END:STANDARD
BEGIN:DAYLIGHT
TZOFFSETFROM:-0800
TZOFFSETTO:-0700
TZNAME:PDT
DTSTART:20260308T100000
END:DAYLIGHT
BEGIN:STANDARD
TZOFFSETFROM:-0700
TZOFFSETTO:-0800
TZNAME:PST
DTSTART:20261101T090000
END:STANDARD
END:VTIMEZONE
BEGIN:VEVENT
DTSTART;TZID=America/Los_Angeles:20250722T120000
DTEND;TZID=America/Los_Angeles:20250722T130000
DTSTAMP:20260423T022453
CREATED:20250515T162800Z
LAST-MODIFIED:20250627T195611Z
UID:19674-1753185600-1753189200@www.thesquarepdx.org
SUMMARY:Noon Tunes Summer Concert Series presented by 101.9 KINK
DESCRIPTION:Ac Sapphire will be performing at Noon Tunes over the lunch hour! \nSapphire makes a meta-modern version of Americana. Honoring the cross of hippies and cowboys that began the genre\, embroidering thoughtful songwriting with cosmic consideration\, emotional rock n roll\, and western vista inspired folk rock. She’s capable of eviscerating emotions with harmonies and heated hard hitting love songs. Sapphire mines the same golden\, glowing vein of Courtney Marie Andrews\, Kassi Valazza\, Madison Cunningham\, or Mikaela Davis. She’s a multi-instrumentalist and composer whose songs take the earnest torch of cosmic country and carry it forward\, blazing a trail through a jaded\, junk-future. Sapphire sings whole-heartedly\, and makes cover-to-cover albums fit for long-play listening\, sitting and smoking\, soul searching\, desert dazing. \nThe Noon Tunes Summer Concert Series returns for its 33rd year and expands to Tuesdays and Thursdays June 3 – July 31! From Noon-1:00pm enjoy music from some of Portland’s best regional and local musical talent. With 17 FREE concerts\, dancing\, painting at Art in The Park and some of Portland’s favorite food vendors at Carts on the Square\, The Square is sure to be Downtown’s summer lunchtime destination. \nUpcoming Concerts: \nJuly 24th – Cowboy Jazz\nJuly 29th – Eric John Kaiser \nJuly 31st – Neighbors
URL:https://www.thesquarepdx.org/event/noon-tunes-summer-concert-series-presented-by-101-9-kink-14/
LOCATION:Pioneer Courthouse Square\, 701 SW 6th Ave.\, Portland\, OR\, 97204\, United States
ATTACH;FMTTYPE=image/avif:https://www.thesquarepdx.org/wp-content/uploads/2025/05/bright-3.avif
END:VEVENT
BEGIN:VEVENT
DTSTART;TZID=America/Los_Angeles:20250722T120000
DTEND;TZID=America/Los_Angeles:20250722T130000
DTSTAMP:20260423T022453
CREATED:20250627T173045Z
LAST-MODIFIED:20250627T173045Z
UID:19847-1753185600-1753189200@www.thesquarepdx.org
SUMMARY:In Concert on Downtown’s Transit Mall – MC Shoehorn at Pendleton
DESCRIPTION:MC Shoehorn will be performing at Pendleton on Downtown’s Transit Mall! Shoehorn began his musical journey in 1979 as a street performer in New Orleans\, where he got his first pair of tap shoes. He went on to perform in 30 countries and most of the USA\, and has released 6 full-length CDs featuring tap dance on his original compositions and his arrangements of show tunes. He plays a lot of instruments but is best known for simultaneously playing sax and tap dancing. \n 
URL:https://www.thesquarepdx.org/event/in-concert-on-downtowns-transit-mall-mc-shoehorn-at-pendleton/
LOCATION:Pendleton\, 825 SW Yamhill St\, Portland\, OR\, 97205\, United States
ATTACH;FMTTYPE=image/jpeg:https://www.thesquarepdx.org/wp-content/uploads/2021/04/MC_Shoehorn_PDD.jpg
END:VEVENT
END:VCALENDAR