BEGIN:VCALENDAR
VERSION:2.0
PRODID:-//The Square - ECPv6.15.20//NONSGML v1.0//EN
CALSCALE:GREGORIAN
METHOD:PUBLISH
X-ORIGINAL-URL:https://www.thesquarepdx.org
X-WR-CALDESC:Events for The Square
REFRESH-INTERVAL;VALUE=DURATION:PT1H
X-Robots-Tag:noindex
X-PUBLISHED-TTL:PT1H
BEGIN:VTIMEZONE
TZID:America/Los_Angeles
BEGIN:DAYLIGHT
TZOFFSETFROM:-0800
TZOFFSETTO:-0700
TZNAME:PDT
DTSTART:20250309T100000
END:DAYLIGHT
BEGIN:STANDARD
TZOFFSETFROM:-0700
TZOFFSETTO:-0800
TZNAME:PST
DTSTART:20251102T090000
END:STANDARD
BEGIN:DAYLIGHT
TZOFFSETFROM:-0800
TZOFFSETTO:-0700
TZNAME:PDT
DTSTART:20260308T100000
END:DAYLIGHT
BEGIN:STANDARD
TZOFFSETFROM:-0700
TZOFFSETTO:-0800
TZNAME:PST
DTSTART:20261101T090000
END:STANDARD
BEGIN:DAYLIGHT
TZOFFSETFROM:-0800
TZOFFSETTO:-0700
TZNAME:PDT
DTSTART:20270314T100000
END:DAYLIGHT
BEGIN:STANDARD
TZOFFSETFROM:-0700
TZOFFSETTO:-0800
TZNAME:PST
DTSTART:20271107T090000
END:STANDARD
END:VTIMEZONE
BEGIN:VEVENT
DTSTART;TZID=America/Los_Angeles:20260711T140000
DTEND;TZID=America/Los_Angeles:20260711T200000
DTSTAMP:20260423T023403
CREATED:20260302T230602Z
LAST-MODIFIED:20260302T230602Z
UID:21153-1783778400-1783800000@www.thesquarepdx.org
SUMMARY:United Revival
DESCRIPTION:This event is a gathering of local churches\, ministries\, and community members for a time of worship\, prayer\, and public encouragement.
URL:https://www.thesquarepdx.org/event/united-revival-2/
LOCATION:Pioneer Courthouse Square\, 701 SW 6th Ave.\, Portland\, OR\, 97204\, United States
END:VEVENT
END:VCALENDAR