BEGIN:VCALENDAR
VERSION:2.0
PRODID:-//The Square - ECPv6.15.20//NONSGML v1.0//EN
CALSCALE:GREGORIAN
METHOD:PUBLISH
X-ORIGINAL-URL:https://www.thesquarepdx.org
X-WR-CALDESC:Events for The Square
REFRESH-INTERVAL;VALUE=DURATION:PT1H
X-Robots-Tag:noindex
X-PUBLISHED-TTL:PT1H
BEGIN:VTIMEZONE
TZID:America/Los_Angeles
BEGIN:DAYLIGHT
TZOFFSETFROM:-0800
TZOFFSETTO:-0700
TZNAME:PDT
DTSTART:20230312T100000
END:DAYLIGHT
BEGIN:STANDARD
TZOFFSETFROM:-0700
TZOFFSETTO:-0800
TZNAME:PST
DTSTART:20231105T090000
END:STANDARD
BEGIN:DAYLIGHT
TZOFFSETFROM:-0800
TZOFFSETTO:-0700
TZNAME:PDT
DTSTART:20240310T100000
END:DAYLIGHT
BEGIN:STANDARD
TZOFFSETFROM:-0700
TZOFFSETTO:-0800
TZNAME:PST
DTSTART:20241103T090000
END:STANDARD
BEGIN:DAYLIGHT
TZOFFSETFROM:-0800
TZOFFSETTO:-0700
TZNAME:PDT
DTSTART:20250309T100000
END:DAYLIGHT
BEGIN:STANDARD
TZOFFSETFROM:-0700
TZOFFSETTO:-0800
TZNAME:PST
DTSTART:20251102T090000
END:STANDARD
END:VTIMEZONE
BEGIN:VEVENT
DTSTART;TZID=America/Los_Angeles:20240815T120000
DTEND;TZID=America/Los_Angeles:20240815T130000
DTSTAMP:20260421T144228
CREATED:20240708T223006Z
LAST-MODIFIED:20240708T223006Z
UID:18186-1723723200-1723726800@www.thesquarepdx.org
SUMMARY:In Concert on Downtown’s Transit Mall – Tuxedo Jimmy at Pendleton
DESCRIPTION:Tuxedo Jimmy will be making balloon art at Pendleton on Downtown’s Transit Mall! \nFor more information\, CLICK HERE.
URL:https://www.thesquarepdx.org/event/in-concert-on-downtowns-transit-mall-tuxedo-jimmy-at-pendleton/
LOCATION:Pendleton\, 825 SW Yamhill St\, Portland\, OR\, 97205\, United States
CATEGORIES:Noon Tunes
ATTACH;FMTTYPE=image/png:https://www.thesquarepdx.org/wp-content/uploads/2024/02/Tuxedo-Jimmy-Header-002.png
END:VEVENT
END:VCALENDAR