BEGIN:VCALENDAR
VERSION:2.0
PRODID:-//The Square - ECPv6.15.20//NONSGML v1.0//EN
CALSCALE:GREGORIAN
METHOD:PUBLISH
X-WR-CALNAME:The Square
X-ORIGINAL-URL:https://www.thesquarepdx.org
X-WR-CALDESC:Events for The Square
REFRESH-INTERVAL;VALUE=DURATION:PT1H
X-Robots-Tag:noindex
X-PUBLISHED-TTL:PT1H
BEGIN:VTIMEZONE
TZID:America/Los_Angeles
BEGIN:DAYLIGHT
TZOFFSETFROM:-0800
TZOFFSETTO:-0700
TZNAME:PDT
DTSTART:20250309T100000
END:DAYLIGHT
BEGIN:STANDARD
TZOFFSETFROM:-0700
TZOFFSETTO:-0800
TZNAME:PST
DTSTART:20251102T090000
END:STANDARD
BEGIN:DAYLIGHT
TZOFFSETFROM:-0800
TZOFFSETTO:-0700
TZNAME:PDT
DTSTART:20260308T100000
END:DAYLIGHT
BEGIN:STANDARD
TZOFFSETFROM:-0700
TZOFFSETTO:-0800
TZNAME:PST
DTSTART:20261101T090000
END:STANDARD
BEGIN:DAYLIGHT
TZOFFSETFROM:-0800
TZOFFSETTO:-0700
TZNAME:PDT
DTSTART:20270314T100000
END:DAYLIGHT
BEGIN:STANDARD
TZOFFSETFROM:-0700
TZOFFSETTO:-0800
TZNAME:PST
DTSTART:20271107T090000
END:STANDARD
END:VTIMEZONE
BEGIN:VEVENT
DTSTART;TZID=America/Los_Angeles:20260303T120000
DTEND;TZID=America/Los_Angeles:20260303T130000
DTSTAMP:20260423T201725
CREATED:20260206T005335Z
LAST-MODIFIED:20260206T005335Z
UID:20916-1772539200-1772542800@www.thesquarepdx.org
SUMMARY:In Concert on Downtown’s Transit Mall – Eric John Kaiser at Less and More Coffee
DESCRIPTION:Eric John Kaiser  will be performing at Less and More Coffee on Downtown’s transit mall! Known as The French Troubadour\, Parisian-born Eric John Kaiser is a singer-songwriter reimagining French music through an Americana lens. Eric was born in the southern outskirts of Paris\, in small town called Verrières-le Buisson\, and began learning guitar when he was 10 years old. After years of a classical music education\, he found a teacher that opened him up to the music of the Beatles and Rolling Stones. He began writing songs in his adolescence\, using music as both a diary to channel his experiences and as his personal legacy. After performing over 350 concerts in France\, Eric John Kaiser fell in love with a girl\, a romance which would bring him to Portland\, Oregon where he is currently based. His songs resonate with a genuine Americana rhythm\, like galloping across the vast plains on horseback\, with a western lap steel guitar playing dirty roadhouse blues. \nFor more information\, CLICK HERE. \n 
URL:https://www.thesquarepdx.org/event/in-concert-on-downtowns-transit-mall-eric-john-kaiser-at-less-and-more-coffee/
LOCATION:Less & More Coffee\, 1003 SW 5th Ave\, Portland\, OR\, 97204\, United States
ATTACH;FMTTYPE=image/jpeg:https://www.thesquarepdx.org/wp-content/uploads/2024/04/EJK_photo_3.jpg
END:VEVENT
BEGIN:VEVENT
DTSTART;TZID=America/Los_Angeles:20260305T120000
DTEND;TZID=America/Los_Angeles:20260305T130000
DTSTAMP:20260423T201725
CREATED:20260206T005906Z
LAST-MODIFIED:20260206T005906Z
UID:20918-1772712000-1772715600@www.thesquarepdx.org
SUMMARY:In Concert on Downtown’s Transit Mall – Gretta Seabird at Sixth+ Main
DESCRIPTION:Gretta Seabird will be performing at Sixth+ Main on Downtown’s transit mall! \nGretta Seabird began with a simple songwriting challenge. Every two weeks\, Jeremiah Brunnhoelzl would email guitar tracks from his flat in Brooklyn\, NY to Lee McDonnell in Portland\, OR\, who would then give herself a mere day to pen down lyrics and melody. As the songs formed at a rapid\, yet natural pace\, the pair began to believe in the poetry they were creating\, in the little moments caught in time. Thus\, Gretta Seabird was formed\, and with it the debut EP “Cycling.”
URL:https://www.thesquarepdx.org/event/in-concert-on-downtowns-transit-mall-gretta-seabird-at-sixth-main/
LOCATION:SW 6th Ave & SW Main St\, Portland\, OR 97205\, SW 6th Ave & SW Main St\, Portland\, OR\, 97205\, United States
ATTACH;FMTTYPE=image/jpeg:https://www.thesquarepdx.org/wp-content/uploads/2025/07/grettaseabird-s4-700.jpg
END:VEVENT
BEGIN:VEVENT
DTSTART;TZID=America/Los_Angeles:20260310T120000
DTEND;TZID=America/Los_Angeles:20260310T130000
DTSTAMP:20260423T201725
CREATED:20260210T175323Z
LAST-MODIFIED:20260210T175323Z
UID:20937-1773144000-1773147600@www.thesquarepdx.org
SUMMARY:In Concert on Downtown’s Transit Mall – Ben Grace at Less and More Coffee
DESCRIPTION:At the center of Australian singer-songwriter Ben Grace’s impeccably crafted songs is a story of undoing. Drawn by the roots-driven tradition of Americana to sing the stories that need to be told\, Ben’s music hovers in the space between lightness and the depths\, wrestling its way through humor and melody to peel back the layers and reveal the naked truth of us. Through the specificity of his own deconstruction\, Ben writes into our universal search for belonging\, spiritual homecoming\, and desire to live seen and unashamed. \nFor more information\, CLICK HERE. \n 
URL:https://www.thesquarepdx.org/event/in-concert-on-downtowns-transit-mall-ben-grace-at-less-and-more-coffee/
LOCATION:Less & More Coffee\, 1003 SW 5th Ave\, Portland\, OR\, 97204\, United States
ATTACH;FMTTYPE=image/webp:https://www.thesquarepdx.org/wp-content/uploads/2026/02/Ben-Grace.webp
END:VEVENT
BEGIN:VEVENT
DTSTART;TZID=America/Los_Angeles:20260312T120000
DTEND;TZID=America/Los_Angeles:20260312T130000
DTSTAMP:20260423T201725
CREATED:20260210T180625Z
LAST-MODIFIED:20260210T180625Z
UID:20940-1773316800-1773320400@www.thesquarepdx.org
SUMMARY:In Concert on Downtown’s Transit Mall – Jay Ringer and the Bells at Pioneer Place
DESCRIPTION:Trumpeter\, pianist\, guitarist\, and vocalist Jay Ringer does it all with a smooth and peaceful sound that’s very much his own. \nFor more information\, CLICK HERE. \n 
URL:https://www.thesquarepdx.org/event/in-concert-on-downtowns-transit-mall-jay-ringer-and-the-bells-at-pioneer-place/
LOCATION:Pioneer Place\, 700 SW 5th Ave\, Portland\, OR\, 97204\, United States
ATTACH;FMTTYPE=image/jpeg:https://www.thesquarepdx.org/wp-content/uploads/2026/02/Jay-Ringer.jpg
END:VEVENT
BEGIN:VEVENT
DTSTART;TZID=America/Los_Angeles:20260317T120000
DTEND;TZID=America/Los_Angeles:20260317T130000
DTSTAMP:20260423T201725
CREATED:20260316T192741Z
LAST-MODIFIED:20260316T192752Z
UID:21192-1773748800-1773752400@www.thesquarepdx.org
SUMMARY:In Concert on Downtown’s Transit Mall – The Xennial at Sixth+Main
DESCRIPTION:The Xennial will be performing at Sixth+Main on Downtown’s Transit Mall! \nThe Xennial is a music project started in 2018 by Erik Harper out of Portland\, Ore. Born in ’82 as a part of the Xennial generation\, Erik grew up listening to alternative rock radio and a lot of great 80’s music. The music you hear at a Xennial show includes hard-rocking hits from the likes of Stone Temple Pilots\, Green Day\, Weezer\, Everclear and the Foo Fighters to softer acoustic sounds from the 90s like Dave Matthews Band\, Jason Mraz and The Goo Goo Dolls. \nFor more information\, CLICK HERE. \n 
URL:https://www.thesquarepdx.org/event/in-concert-on-downtowns-transit-mall-the-xennial-at-sixthmain/
LOCATION:SW 6th Ave & SW Main St\, Portland\, OR 97205\, SW 6th Ave & SW Main St\, Portland\, OR\, 97205\, United States
ATTACH;FMTTYPE=image/jpeg:https://www.thesquarepdx.org/wp-content/uploads/2026/03/Erik-Harper-Xennial.jpg
END:VEVENT
BEGIN:VEVENT
DTSTART;TZID=America/Los_Angeles:20260319T120000
DTEND;TZID=America/Los_Angeles:20260319T130000
DTSTAMP:20260423T201725
CREATED:20260210T194704Z
LAST-MODIFIED:20260219T200009Z
UID:20947-1773921600-1773925200@www.thesquarepdx.org
SUMMARY:In Concert on Downtown’s Transit Mall – Curtis Reynolds at Pendleton
DESCRIPTION:Curtis Reynolds will be performing at Pendleton on Downtown’s transit mall! \nCurtis Reynolds is a Portland-based singer/songwriter with a pop/soul influenced vibe express through powerful vocals and acoustic guitar. \n 
URL:https://www.thesquarepdx.org/event/in-concert-on-downtowns-transit-mall-curtis-reynolds-2/
LOCATION:Pendleton\, 825 SW Yamhill St\, Portland\, OR\, 97205\, United States
ATTACH;FMTTYPE=image/jpeg:https://www.thesquarepdx.org/wp-content/uploads/2025/07/Curtis-Reynolds.jpg
END:VEVENT
BEGIN:VEVENT
DTSTART;TZID=America/Los_Angeles:20260324T120000
DTEND;TZID=America/Los_Angeles:20260324T130000
DTSTAMP:20260423T201725
CREATED:20260210T195911Z
LAST-MODIFIED:20260210T195911Z
UID:20950-1774353600-1774357200@www.thesquarepdx.org
SUMMARY:In Concert on Downtown’s Transit Mall – Cosacchi at Less and More Coffee
DESCRIPTION:Cosacchi will be performing at Less and More Coffee on Downtown’s transit mall! \nCosacchi is an Indie Rock band from Portland\, OR. It was created by singer-songwriter and multi-instrumentalist Conor Adams in 2020. Their sound is heavily influenced by American Folk-Rock and Jazz music. Adam’s distinctive voice is a soothing element of the music\, together with the harmonies provided by vocalist Alena Bagoly they create a unique blend that comforts the listener. Songs range from laid-back talksing songwriting\, to high energy/guitar driven anthems. With Cosacchi\, there is truly a sound for every occasion. \n 
URL:https://www.thesquarepdx.org/event/in-concert-on-downtowns-transit-mall-cosacchi-at-less-and-more-coffee/
LOCATION:Less & More Coffee\, 1003 SW 5th Ave\, Portland\, OR\, 97204\, United States
ATTACH;FMTTYPE=image/jpeg:https://www.thesquarepdx.org/wp-content/uploads/2025/07/08-Cosacchi-Photo-1.jpg
END:VEVENT
BEGIN:VEVENT
DTSTART;TZID=America/Los_Angeles:20260326T120000
DTEND;TZID=America/Los_Angeles:20260326T130000
DTSTAMP:20260423T201725
CREATED:20260210T203804Z
LAST-MODIFIED:20260324T160252Z
UID:20952-1774526400-1774530000@www.thesquarepdx.org
SUMMARY:In Concert on Downtown’s Transit Mall – Joel Shelley at Pioneer Place
DESCRIPTION:Joel Shelley will be performing at Pioneer Place on Downtown’s Transit Mall! \nFor more information\, CLICK HERE. \n 
URL:https://www.thesquarepdx.org/event/in-concert-on-downtowns-transit-mall-joel-shelley-at-pioneer-place/
LOCATION:Pioneer Place\, 700 SW 5th Ave\, Portland\, OR\, 97204\, United States
ATTACH;FMTTYPE=image/jpeg:https://www.thesquarepdx.org/wp-content/uploads/2026/02/Joel-Shelley.jpg
END:VEVENT
BEGIN:VEVENT
DTSTART;TZID=America/Los_Angeles:20260329T110000
DTEND;TZID=America/Los_Angeles:20260329T150000
DTSTAMP:20260423T201725
CREATED:20260303T001147Z
LAST-MODIFIED:20260319T195220Z
UID:21160-1774782000-1774796400@www.thesquarepdx.org
SUMMARY:Piano Day 2026
DESCRIPTION:Piano Day is a free public celebration that brings together professional pianists\, students\, and the community. \nFor more information\, CLICK HERE.
URL:https://www.thesquarepdx.org/event/piano-day-2026/
LOCATION:Pioneer Courthouse Square\, 701 SW 6th Ave.\, Portland\, OR\, 97204\, United States
ATTACH;FMTTYPE=image/jpeg:https://www.thesquarepdx.org/wp-content/uploads/2026/03/PIANO-DAY-2026-Flyer-8.jpg
END:VEVENT
BEGIN:VEVENT
DTSTART;TZID=America/Los_Angeles:20260331T120000
DTEND;TZID=America/Los_Angeles:20260331T130000
DTSTAMP:20260423T201725
CREATED:20260210T204442Z
LAST-MODIFIED:20260210T204442Z
UID:20954-1774958400-1774962000@www.thesquarepdx.org
SUMMARY:In Concert on Downtown’s Transit Mall – The AM (Acoustic Minds) at Sixth+Main
DESCRIPTION:The AM (Acoustic Minds) will be performing at Sixth+Main on Downtown’s Transit Mall! The AM (Acoustic Minds) is comprised of identical twin sister singers and songwriters Jenni and Amanda Price. (Piano/Guitar/Vocals). They have toured through 11 countries and blend genres of edm\, hip hop\, soul and pop. Known for their songwriting and unique sibling harmonies combined with 80’s synth and heavy bass. \nFor more information\, CLICK HERE.
URL:https://www.thesquarepdx.org/event/in-concert-on-downtowns-transit-mall-the-am-acoustic-minds-at-sixthmain-3/
LOCATION:SW 6th Ave & SW Main St\, Portland\, OR 97205\, SW 6th Ave & SW Main St\, Portland\, OR\, 97205\, United States
ATTACH;FMTTYPE=image/jpeg:https://www.thesquarepdx.org/wp-content/uploads/2024/04/Acoustic-Minds.jpg
END:VEVENT
END:VCALENDAR