BEGIN:VCALENDAR
VERSION:2.0
PRODID:-//The Square - ECPv6.15.20//NONSGML v1.0//EN
CALSCALE:GREGORIAN
METHOD:PUBLISH
X-ORIGINAL-URL:https://www.thesquarepdx.org
X-WR-CALDESC:Events for The Square
REFRESH-INTERVAL;VALUE=DURATION:PT1H
X-Robots-Tag:noindex
X-PUBLISHED-TTL:PT1H
BEGIN:VTIMEZONE
TZID:America/Los_Angeles
BEGIN:DAYLIGHT
TZOFFSETFROM:-0800
TZOFFSETTO:-0700
TZNAME:PDT
DTSTART:20210314T100000
END:DAYLIGHT
BEGIN:STANDARD
TZOFFSETFROM:-0700
TZOFFSETTO:-0800
TZNAME:PST
DTSTART:20211107T090000
END:STANDARD
BEGIN:DAYLIGHT
TZOFFSETFROM:-0800
TZOFFSETTO:-0700
TZNAME:PDT
DTSTART:20220313T100000
END:DAYLIGHT
BEGIN:STANDARD
TZOFFSETFROM:-0700
TZOFFSETTO:-0800
TZNAME:PST
DTSTART:20221106T090000
END:STANDARD
BEGIN:DAYLIGHT
TZOFFSETFROM:-0800
TZOFFSETTO:-0700
TZNAME:PDT
DTSTART:20230312T100000
END:DAYLIGHT
BEGIN:STANDARD
TZOFFSETFROM:-0700
TZOFFSETTO:-0800
TZNAME:PST
DTSTART:20231105T090000
END:STANDARD
END:VTIMEZONE
BEGIN:VEVENT
DTSTART;TZID=America/Los_Angeles:20220711T120000
DTEND;TZID=America/Los_Angeles:20220711T130000
DTSTAMP:20260421T094539
CREATED:20220708T003132Z
LAST-MODIFIED:20220708T003132Z
UID:14658-1657540800-1657544400@www.thesquarepdx.org
SUMMARY:Mondays on the Mall – Pablo Rivarola at Ben Bridge Jewelers
DESCRIPTION:Jazz trumpeter Pablo Rivarola will be performing at Ben Bridge Jewelers on the Transit Mall! \nFor more information\, CLICK HERE
URL:https://www.thesquarepdx.org/event/mondays-on-the-mall-pablo-rivarola-at-ben-bridge-jewelers/
LOCATION:Ben Bridge Jewelers\, 801 SW 5th Ave\, Portland\, OR\, 97204\, United States
ATTACH;FMTTYPE=image/jpeg:https://www.thesquarepdx.org/wp-content/uploads/2021/06/Pablo_Rivarola.jpg
END:VEVENT
BEGIN:VEVENT
DTSTART;TZID=America/Los_Angeles:20220711T120000
DTEND;TZID=America/Los_Angeles:20220711T130000
DTSTAMP:20260421T094539
CREATED:20220708T003454Z
LAST-MODIFIED:20220708T170602Z
UID:14662-1657540800-1657544400@www.thesquarepdx.org
SUMMARY:Mondays on the Mall – Lex Helgerson at Less & More Coffee
DESCRIPTION:Lex Helgerson will be performing at Less & More Coffee on the Transit Mall! \nFor more information\, CLICK HERE.
URL:https://www.thesquarepdx.org/event/mondays-on-the-mall-lex-helgerson-2/
LOCATION:Less & More Coffee\, 1003 SW 5th Ave\, Portland\, OR\, 97204\, United States
ATTACH;FMTTYPE=image/jpeg:https://www.thesquarepdx.org/wp-content/uploads/2021/07/Lex_Helgerson.jpg
END:VEVENT
BEGIN:VEVENT
DTSTART;TZID=America/Los_Angeles:20220712T120000
DTEND;TZID=America/Los_Angeles:20220712T130000
DTSTAMP:20260421T094539
CREATED:20220405T161053Z
LAST-MODIFIED:20220630T235717Z
UID:13996-1657627200-1657630800@www.thesquarepdx.org
SUMMARY:Noon Tunes Summer Concert Series Presented by 101.9 KINK and The Oregonian | Oregonlive
DESCRIPTION:Veteran Cosmic Rockers will be performing at Noon Tunes over the lunch hour! \nThe Noon Tunes Summer Concert Series returns for its 30th year on Tuesdays throughout July and August! From noon-1:00pm enjoy music from some of Portland’s best regional and local musical talent. With nine FREE concerts\, dancing\, and some of Portland’s favorite food vendors at Carts on the Square\, the Square is sure to be Downtown’s summer lunchtime destination. \nUpcoming Concerts: \n7/19/2022 – Laryssa Birdseye\n7/26/2022 – Bull Mountain\n8/2/2022 – Rae Gordon\n8/9/2022 – Machado Mijiga\n8/16/2022 – Chasing Ebenezer\n8/23/2022 – Stump City Soul\n8/30/2022 – Portland Standard Time \n \n \n  \n 
URL:https://www.thesquarepdx.org/event/noon-tunes-summer-concert-series-2-2022-07-12/
LOCATION:Pioneer Courthouse Square\, 701 SW 6th Ave.\, Portland\, OR\, 97204\, United States
CATEGORIES:Noon Tunes
ATTACH;FMTTYPE=image/webp:https://www.thesquarepdx.org/wp-content/uploads/2022/06/Veteran-Ccosmic-Rockers-6.7.22-Web.webp
END:VEVENT
BEGIN:VEVENT
DTSTART;TZID=America/Los_Angeles:20220713T120000
DTEND;TZID=America/Los_Angeles:20220713T130000
DTSTAMP:20260421T094539
CREATED:20220701T232015Z
LAST-MODIFIED:20220701T232015Z
UID:14601-1657713600-1657717200@www.thesquarepdx.org
SUMMARY:DJ Jupiter Williams
DESCRIPTION:DJ Jupiter Williams will be performing at the Square over the lunch hour!
URL:https://www.thesquarepdx.org/event/dj-jupiter-williams-2/2022-07-13/
LOCATION:Pioneer Courthouse Square\, 701 SW 6th Ave.\, Portland\, OR\, 97204\, United States
ATTACH;FMTTYPE=image/jpeg:https://www.thesquarepdx.org/wp-content/uploads/2022/04/DJ-Jupiter-scaled.jpg
END:VEVENT
BEGIN:VEVENT
DTSTART;TZID=America/Los_Angeles:20220713T190000
DTEND;TZID=America/Los_Angeles:20220713T210000
DTSTAMP:20260421T094539
CREATED:20220707T000626Z
LAST-MODIFIED:20220707T223110Z
UID:14626-1657738800-1657746000@www.thesquarepdx.org
SUMMARY:Portland N.O.W.
DESCRIPTION:Portland N.O.W. is a public outdoor event with live music and encouraging messages! This is open for anyone and everyone to come and participate in. Grab some friends and meet us at Pioneer Courthouse Square!
URL:https://www.thesquarepdx.org/event/portland-n-o-w/
LOCATION:Pioneer Courthouse Square\, 701 SW 6th Ave.\, Portland\, OR\, 97204\, United States
END:VEVENT
BEGIN:VEVENT
DTSTART;TZID=America/Los_Angeles:20220715T170000
DTEND;TZID=America/Los_Angeles:20220715T220000
DTSTAMP:20260421T094539
CREATED:20220405T170056Z
LAST-MODIFIED:20220404T225648Z
UID:13981-1657904400-1657922400@www.thesquarepdx.org
SUMMARY:True West and The Square Present Blind Pilot
DESCRIPTION:True West and The Square present Blind Pilot! To learn more and purchase tickets\, CLICK HERE. \n  \n                            
URL:https://www.thesquarepdx.org/event/true-west-and-the-square-present-blind-pilot/
LOCATION:Pioneer Courthouse Square\, 701 SW 6th Ave.\, Portland\, OR\, 97204\, United States
ATTACH;FMTTYPE=image/jpeg:https://www.thesquarepdx.org/wp-content/uploads/2022/04/Ticketing-Image-Blind-Pilot.jpg
END:VEVENT
END:VCALENDAR