BEGIN:VCALENDAR
VERSION:2.0
PRODID:-//The Square - ECPv6.15.20//NONSGML v1.0//EN
CALSCALE:GREGORIAN
METHOD:PUBLISH
X-WR-CALNAME:The Square
X-ORIGINAL-URL:https://www.thesquarepdx.org
X-WR-CALDESC:Events for The Square
REFRESH-INTERVAL;VALUE=DURATION:PT1H
X-Robots-Tag:noindex
X-PUBLISHED-TTL:PT1H
BEGIN:VTIMEZONE
TZID:America/Los_Angeles
BEGIN:DAYLIGHT
TZOFFSETFROM:-0800
TZOFFSETTO:-0700
TZNAME:PDT
DTSTART:20220313T100000
END:DAYLIGHT
BEGIN:STANDARD
TZOFFSETFROM:-0700
TZOFFSETTO:-0800
TZNAME:PST
DTSTART:20221106T090000
END:STANDARD
BEGIN:DAYLIGHT
TZOFFSETFROM:-0800
TZOFFSETTO:-0700
TZNAME:PDT
DTSTART:20230312T100000
END:DAYLIGHT
BEGIN:STANDARD
TZOFFSETFROM:-0700
TZOFFSETTO:-0800
TZNAME:PST
DTSTART:20231105T090000
END:STANDARD
BEGIN:DAYLIGHT
TZOFFSETFROM:-0800
TZOFFSETTO:-0700
TZNAME:PDT
DTSTART:20240310T100000
END:DAYLIGHT
BEGIN:STANDARD
TZOFFSETFROM:-0700
TZOFFSETTO:-0800
TZNAME:PST
DTSTART:20241103T090000
END:STANDARD
END:VTIMEZONE
BEGIN:VEVENT
DTSTART;TZID=America/Los_Angeles:20230731T120000
DTEND;TZID=America/Los_Angeles:20230731T130000
DTSTAMP:20260420T001637
CREATED:20230705T230359Z
LAST-MODIFIED:20230705T230359Z
UID:16367-1690804800-1690808400@www.thesquarepdx.org
SUMMARY:Mondays on the Mall – MC Shoehorn at MUJI
DESCRIPTION:MC Shoehorn will be performing at MUJI on the Transit Mall! \nFor more information\, CLICK HERE.
URL:https://www.thesquarepdx.org/event/mondays-on-the-mall-mc-shoehorn-at-muji-2/
LOCATION:Muji\, 621 SW 5th Ave\, Portland\, OR\, 97204\, United States
ATTACH;FMTTYPE=image/jpeg:https://www.thesquarepdx.org/wp-content/uploads/2021/04/MC_Shoehorn_PDD.jpg
END:VEVENT
BEGIN:VEVENT
DTSTART;TZID=America/Los_Angeles:20230731T120000
DTEND;TZID=America/Los_Angeles:20230731T130000
DTSTAMP:20260420T001637
CREATED:20230718T221225Z
LAST-MODIFIED:20230718T221225Z
UID:16398-1690804800-1690808400@www.thesquarepdx.org
SUMMARY:Mondays on the Mall – Lex Helgerson at US Bancorp Tower
DESCRIPTION:Lex Helgerson will be performing at the US Bancorp Tower on the Transit Mall! \nFor more information\, CLICK HERE.
URL:https://www.thesquarepdx.org/event/mondays-on-the-mall-lex-helgerson-at-us-bancorp-tower-2/
LOCATION:Big Pink\, 111 SW 5th Ave #1250\, Portland\, OR\, 97204\, United States
ATTACH;FMTTYPE=image/jpeg:https://www.thesquarepdx.org/wp-content/uploads/2021/07/Lex_Helgerson.jpg
END:VEVENT
BEGIN:VEVENT
DTSTART;TZID=America/Los_Angeles:20230805T120000
DTEND;TZID=America/Los_Angeles:20230805T180000
DTSTAMP:20260420T001637
CREATED:20230523T233200Z
LAST-MODIFIED:20230523T233531Z
UID:16172-1691236800-1691258400@www.thesquarepdx.org
SUMMARY:2023 Chinese Festival
DESCRIPTION:Join the Oregon Chinese Coalition for the 2023 Chinese Festival in the Square! Celebrate Chinese American culture and enjoy nonstop entertainment\, delicious Chinese food\, authentic arts and crafts\, and much more. \nFor more information visit pdxchinese.org.
URL:https://www.thesquarepdx.org/event/2023-chinese-festival/
LOCATION:Pioneer Courthouse Square\, 701 SW 6th Ave.\, Portland\, OR\, 97204\, United States
ATTACH;FMTTYPE=image/jpeg:https://www.thesquarepdx.org/wp-content/uploads/2021/07/Chinese-Fest-45.jpg
END:VEVENT
END:VCALENDAR