BEGIN:VCALENDAR
VERSION:2.0
PRODID:-//The Square - ECPv6.15.20//NONSGML v1.0//EN
CALSCALE:GREGORIAN
METHOD:PUBLISH
X-WR-CALNAME:The Square
X-ORIGINAL-URL:https://www.thesquarepdx.org
X-WR-CALDESC:Events for The Square
REFRESH-INTERVAL;VALUE=DURATION:PT1H
X-Robots-Tag:noindex
X-PUBLISHED-TTL:PT1H
BEGIN:VTIMEZONE
TZID:America/Los_Angeles
BEGIN:DAYLIGHT
TZOFFSETFROM:-0800
TZOFFSETTO:-0700
TZNAME:PDT
DTSTART:20230312T100000
END:DAYLIGHT
BEGIN:STANDARD
TZOFFSETFROM:-0700
TZOFFSETTO:-0800
TZNAME:PST
DTSTART:20231105T090000
END:STANDARD
BEGIN:DAYLIGHT
TZOFFSETFROM:-0800
TZOFFSETTO:-0700
TZNAME:PDT
DTSTART:20240310T100000
END:DAYLIGHT
BEGIN:STANDARD
TZOFFSETFROM:-0700
TZOFFSETTO:-0800
TZNAME:PST
DTSTART:20241103T090000
END:STANDARD
BEGIN:DAYLIGHT
TZOFFSETFROM:-0800
TZOFFSETTO:-0700
TZNAME:PDT
DTSTART:20250309T100000
END:DAYLIGHT
BEGIN:STANDARD
TZOFFSETFROM:-0700
TZOFFSETTO:-0800
TZNAME:PST
DTSTART:20251102T090000
END:STANDARD
END:VTIMEZONE
BEGIN:VEVENT
DTSTART;TZID=America/Los_Angeles:20240917T120000
DTEND;TZID=America/Los_Angeles:20240917T130000
DTSTAMP:20260421T005222
CREATED:20240708T233800Z
LAST-MODIFIED:20240708T233800Z
UID:18204-1726574400-1726578000@www.thesquarepdx.org
SUMMARY:In Concert on Downtown’s Transit Mall – Karyn Ann at Pendleton
DESCRIPTION:Indie-Folk Singer Songwriter Karyn Ann will be performing at Pendleton on Downtown’s Transit Mall! Once described as a “combination of Patty Griffin grit and Amy Winehouse grace” by American Songwriter\, Portland-based Soul/Americana singer-songwriter Karyn Ann has been charming audiences across the US for nearly a decade. Her powerful vocals and thoughtful songwriting weave together themes of nature and personal experience into a narrative that highlights the many facets of universal human emotions. \nFor more information\, CLICK HERE.
URL:https://www.thesquarepdx.org/event/in-concert-on-downtowns-transit-mall-karyn-ann-at-pendleton/
LOCATION:Pendleton\, 825 SW Yamhill St\, Portland\, OR\, 97205\, United States
ATTACH;FMTTYPE=image/jpeg:https://www.thesquarepdx.org/wp-content/uploads/2021/06/Karyn-Ann-scaled.jpg
END:VEVENT
BEGIN:VEVENT
DTSTART;TZID=America/Los_Angeles:20240919T120000
DTEND;TZID=America/Los_Angeles:20240919T130000
DTSTAMP:20260421T005222
CREATED:20240708T234004Z
LAST-MODIFIED:20240708T234004Z
UID:18206-1726747200-1726750800@www.thesquarepdx.org
SUMMARY:In Concert on Downtown’s Transit Mall – Ella X at U.S. Bancorp Tower
DESCRIPTION:Ella X will be performing at U.S. Bancorp Tower on Downtown’s Transit Mall! \nFor more information\, CLICK HERE.
URL:https://www.thesquarepdx.org/event/in-concert-on-downtowns-transit-mall-ella-x-at-u-s-bancorp-tower/
LOCATION:Big Pink\, 111 SW 5th Ave #1250\, Portland\, OR\, 97204\, United States
ATTACH;FMTTYPE=image/jpeg:https://www.thesquarepdx.org/wp-content/uploads/2024/02/PMMI_Social-Media_General.jpg
END:VEVENT
BEGIN:VEVENT
DTSTART;TZID=America/Los_Angeles:20240920T173000
DTEND;TZID=America/Los_Angeles:20240920T210000
DTSTAMP:20260421T005222
CREATED:20240214T025833Z
LAST-MODIFIED:20240822T231838Z
UID:17269-1726853400-1726866000@www.thesquarepdx.org
SUMMARY:Portland Oktoberfest
DESCRIPTION:Bring your steins\, dirndls\, and lederhosen – Munich’s favorite fest arrives in downtown Portland this fall! \nWith its picturesque setting in the heart of the city\, Portland Oktoberfest invites locals and visitors alike to experience an unforgettable fusion of German heritage and Oregonian flair. Indulge in authentic Bavarian delights\, with mouthwatering bratwursts and soft pretzels from Portland’s Urban German Wursthaus. Steins will overflow with a carefully curated selection of regional German-style beers and authentic imports straight from Munich. \nFor more information\, CLICK HERE.
URL:https://www.thesquarepdx.org/event/portland-oktoberfest-2/
LOCATION:OR
ATTACH;FMTTYPE=image/jpeg:https://www.thesquarepdx.org/wp-content/uploads/2024/08/Oktoberfest-2024-Slider-scaled.jpg
END:VEVENT
BEGIN:VEVENT
DTSTART;TZID=America/Los_Angeles:20240921T110000
DTEND;TZID=America/Los_Angeles:20240921T210000
DTSTAMP:20260421T005222
CREATED:20230724T231826Z
LAST-MODIFIED:20240822T231810Z
UID:16429-1726916400-1726952400@www.thesquarepdx.org
SUMMARY:Portland Oktoberfest
DESCRIPTION:Bring your steins\, dirndls\, and lederhosen – Munich’s favorite fest arrives in downtown Portland this fall! \nWith its picturesque setting in the heart of the city\, Portland Oktoberfest invites locals and visitors alike to experience an unforgettable fusion of German heritage and Oregonian flair. Indulge in authentic Bavarian delights\, with mouthwatering bratwursts and soft pretzels from Portland’s Urban German Wursthaus. Steins will overflow with a carefully curated selection of regional German-style beers and authentic imports straight from Munich. \nFor more information\, CLICK HERE.
URL:https://www.thesquarepdx.org/event/portland-oktoberfest/
LOCATION:OR
ATTACH;FMTTYPE=image/jpeg:https://www.thesquarepdx.org/wp-content/uploads/2024/08/Oktoberfest-2024-Slider-scaled.jpg
END:VEVENT
END:VCALENDAR