BEGIN:VCALENDAR
VERSION:2.0
PRODID:-//The Square - ECPv6.15.20//NONSGML v1.0//EN
CALSCALE:GREGORIAN
METHOD:PUBLISH
X-WR-CALNAME:The Square
X-ORIGINAL-URL:https://www.thesquarepdx.org
X-WR-CALDESC:Events for The Square
REFRESH-INTERVAL;VALUE=DURATION:PT1H
X-Robots-Tag:noindex
X-PUBLISHED-TTL:PT1H
BEGIN:VTIMEZONE
TZID:America/Los_Angeles
BEGIN:DAYLIGHT
TZOFFSETFROM:-0800
TZOFFSETTO:-0700
TZNAME:PDT
DTSTART:20250309T100000
END:DAYLIGHT
BEGIN:STANDARD
TZOFFSETFROM:-0700
TZOFFSETTO:-0800
TZNAME:PST
DTSTART:20251102T090000
END:STANDARD
BEGIN:DAYLIGHT
TZOFFSETFROM:-0800
TZOFFSETTO:-0700
TZNAME:PDT
DTSTART:20260308T100000
END:DAYLIGHT
BEGIN:STANDARD
TZOFFSETFROM:-0700
TZOFFSETTO:-0800
TZNAME:PST
DTSTART:20261101T090000
END:STANDARD
BEGIN:DAYLIGHT
TZOFFSETFROM:-0800
TZOFFSETTO:-0700
TZNAME:PDT
DTSTART:20270314T100000
END:DAYLIGHT
BEGIN:STANDARD
TZOFFSETFROM:-0700
TZOFFSETTO:-0800
TZNAME:PST
DTSTART:20271107T090000
END:STANDARD
END:VTIMEZONE
BEGIN:VEVENT
DTSTART;TZID=America/Los_Angeles:20260428T120000
DTEND;TZID=America/Los_Angeles:20260428T130000
DTSTAMP:20260424T090604
CREATED:20260211T004614Z
LAST-MODIFIED:20260211T004614Z
UID:20971-1777377600-1777381200@www.thesquarepdx.org
SUMMARY:In Concert on Downtown’s Transit Mall – Machado Mijiga at Sixth+Main
DESCRIPTION:Classically-trained multi-instrumentalist Machado Mijiga brings his unique brand of hip-hop and electronica-infused remixes to Sixth+Main on Downtown’s Transit Mall. \nFor more information\, CLICK HERE.
URL:https://www.thesquarepdx.org/event/in-concert-on-downtowns-transit-mall-machado-mijiga-at-sixthmain-3/
LOCATION:SW 6th Ave & SW Main St\, Portland\, OR 97205\, SW 6th Ave & SW Main St\, Portland\, OR\, 97205\, United States
ATTACH;FMTTYPE=image/jpeg:https://www.thesquarepdx.org/wp-content/uploads/2024/02/Machado-White-Background-Abby-Gordon-scaled.jpg
END:VEVENT
BEGIN:VEVENT
DTSTART;TZID=America/Los_Angeles:20260430T120000
DTEND;TZID=America/Los_Angeles:20260430T130000
DTSTAMP:20260424T090604
CREATED:20260211T004858Z
LAST-MODIFIED:20260211T004858Z
UID:20973-1777550400-1777554000@www.thesquarepdx.org
SUMMARY:In Concert on Downtown’s Transit Mall – Abigail Krawson at Pendleton
DESCRIPTION:Opera singer Abigail Krawson will be performing at Pendleton on Downtown’s Transit Mall! Opera singer Abigail Krawson will be performing at Pioneer Place on Downtown’s Transit Mall! Acclaimed as “bewitching\,” having “her own soubrette-ish delivery\,” as well as “wringing every bit of sentiment out of her aria\,” Abigail Krawson is garnering critical and audience praise for her energetic and heartfelt operatic portrayals. She is on the roster of both The Portland Opera Chorus and The Portland Symphonic Choir\, the Director of Children and Youth Choirs at Lake Grove Presbyterian Church\, the Communications Director for Renegade Opera\, a private voice and piano teacher\, and also maintains an active solo calendar in and around Portland. \nFor more information\, CLICK HERE.
URL:https://www.thesquarepdx.org/event/in-concert-on-downtowns-transit-mall-abigail-krawson-at-pendleton/
LOCATION:Pendleton\, 825 SW Yamhill St\, Portland\, OR\, 97205\, United States
ATTACH;FMTTYPE=image/jpeg:https://www.thesquarepdx.org/wp-content/uploads/2024/02/PMMI_Social-Media_General.jpg
END:VEVENT
BEGIN:VEVENT
DTSTART;TZID=America/Los_Angeles:20260502T140000
DTEND;TZID=America/Los_Angeles:20260502T223000
DTSTAMP:20260424T090604
CREATED:20260303T002358Z
LAST-MODIFIED:20260423T202705Z
UID:21164-1777730400-1777761000@www.thesquarepdx.org
SUMMARY:Reggaeton En La Calle
DESCRIPTION:Join Portland’s biggest Reggaeton event on Saturday May 2nd with a block party in The Square to celebrate Cinco de Mayo. \nFor more information and tickets\, CLICK HERE.
URL:https://www.thesquarepdx.org/event/shaken-up-the-house/
LOCATION:Pioneer Courthouse Square\, 701 SW 6th Ave.\, Portland\, OR\, 97204\, United States
END:VEVENT
END:VCALENDAR