BEGIN:VCALENDAR
VERSION:2.0
PRODID:-//The Square - ECPv6.15.20//NONSGML v1.0//EN
CALSCALE:GREGORIAN
METHOD:PUBLISH
X-ORIGINAL-URL:https://www.thesquarepdx.org
X-WR-CALDESC:Events for The Square
REFRESH-INTERVAL;VALUE=DURATION:PT1H
X-Robots-Tag:noindex
X-PUBLISHED-TTL:PT1H
BEGIN:VTIMEZONE
TZID:America/Los_Angeles
BEGIN:DAYLIGHT
TZOFFSETFROM:-0800
TZOFFSETTO:-0700
TZNAME:PDT
DTSTART:20250309T100000
END:DAYLIGHT
BEGIN:STANDARD
TZOFFSETFROM:-0700
TZOFFSETTO:-0800
TZNAME:PST
DTSTART:20251102T090000
END:STANDARD
BEGIN:DAYLIGHT
TZOFFSETFROM:-0800
TZOFFSETTO:-0700
TZNAME:PDT
DTSTART:20260308T100000
END:DAYLIGHT
BEGIN:STANDARD
TZOFFSETFROM:-0700
TZOFFSETTO:-0800
TZNAME:PST
DTSTART:20261101T090000
END:STANDARD
BEGIN:DAYLIGHT
TZOFFSETFROM:-0800
TZOFFSETTO:-0700
TZNAME:PDT
DTSTART:20270314T100000
END:DAYLIGHT
BEGIN:STANDARD
TZOFFSETFROM:-0700
TZOFFSETTO:-0800
TZNAME:PST
DTSTART:20271107T090000
END:STANDARD
END:VTIMEZONE
BEGIN:VEVENT
DTSTART;TZID=America/Los_Angeles:20260602T113000
DTEND;TZID=America/Los_Angeles:20260602T133000
DTSTAMP:20260421T142723
CREATED:20240424T215054Z
LAST-MODIFIED:20260417T173713Z
UID:17559-1780399800-1780407000@www.thesquarepdx.org
SUMMARY:Free Art in The Park
DESCRIPTION:The Square and Portland creative Larry Yes partner to bring the program Free Art in The Park to downtown Portland on Tuesdays and Thursdays\, June 2 – July 30. Kids\, adults\, neighbors\, families\, and friends are invited to come out in creative spirit to enjoy painting\, music\, fun and meaningful connection.  This free community art series pairs hands-on artistic engagement with live music\, bringing creativity and Portland together on warm summer days in the heart of downtown. Art material provided while supplies last.
URL:https://www.thesquarepdx.org/event/free-art-in-the-park-with-larry-yes-26/2026-06-02/
LOCATION:Pioneer Courthouse Square\, 701 SW 6th Ave.\, Portland\, OR\, 97204\, United States
ATTACH;FMTTYPE=image/jpeg:https://www.thesquarepdx.org/wp-content/uploads/2024/04/Art-in-the-Park-2024-2-Cropped-scaled.jpg
END:VEVENT
BEGIN:VEVENT
DTSTART;TZID=America/Los_Angeles:20260602T120000
DTEND;TZID=America/Los_Angeles:20260602T130000
DTSTAMP:20260421T142723
CREATED:20260219T192015Z
LAST-MODIFIED:20260219T192015Z
UID:21031-1780401600-1780405200@www.thesquarepdx.org
SUMMARY:In Concert on Downtown’s Transit Mall – MC Shoehorn at Pioneer Place
DESCRIPTION:MC Shoehorn will be performing at Pioneer Place on Downtown’s Transit Mall! Shoehorn began his musical journey in 1979 as a street performer in New Orleans\, where he got his first pair of tap shoes. He went on to perform in 30 countries and most of the USA\, and has released 6 full-length CDs featuring tap dance on his original compositions and his arrangements of show tunes. He plays a lot of instruments but is best known for simultaneously playing sax and tap dancing. \n 
URL:https://www.thesquarepdx.org/event/in-concert-on-downtowns-transit-mall-mc-shoehorn-at-pioneer-place-3/
LOCATION:Pioneer Place @ David Yurman\, 700 SW 5th Ave #2105\, Portland\, 97204\, United States
ATTACH;FMTTYPE=image/jpeg:https://www.thesquarepdx.org/wp-content/uploads/2021/04/MC_Shoehorn_PDD.jpg
END:VEVENT
BEGIN:VEVENT
DTSTART;TZID=America/Los_Angeles:20260602T120000
DTEND;TZID=America/Los_Angeles:20260602T130000
DTSTAMP:20260421T142723
CREATED:20260417T173110Z
LAST-MODIFIED:20260417T173110Z
UID:21307-1780401600-1780405200@www.thesquarepdx.org
SUMMARY:Noon Tunes Summer Concert Series
DESCRIPTION:The Noon Tunes Summer Concert Series returns to The Square for its 34th year on Tuesdays and Thursdays June 2 – July 30! From Noon-1:00pm enjoy a dynamic mix of homegrown music from some of Portland’s top regional and local musical talent. With 18 FREE concerts\, dancing\, painting at Art in The Park and some of Portland’s favorite food vendors at Carts on the Square\, The Square is Downtown’s summer lunchtime destination.
URL:https://www.thesquarepdx.org/event/noon-tunes-summer-concert-series-5/2026-06-02/
LOCATION:Pioneer Courthouse Square\, 701 SW 6th Ave.\, Portland\, OR\, 97204\, United States
ATTACH;FMTTYPE=image/jpeg:https://www.thesquarepdx.org/wp-content/uploads/2018/06/noontunes.jpg
END:VEVENT
BEGIN:VEVENT
DTSTART;TZID=America/Los_Angeles:20260604T113000
DTEND;TZID=America/Los_Angeles:20260604T133000
DTSTAMP:20260421T142723
CREATED:20240424T215054Z
LAST-MODIFIED:20240424T215054Z
UID:21329-1780572600-1780579800@www.thesquarepdx.org
SUMMARY:Free Art in The Park
DESCRIPTION:The Square and Portland creative Larry Yes partner to bring the program Free Art in The Park to downtown Portland on Tuesdays and Thursdays\, June 2 – July 30. Kids\, adults\, neighbors\, families\, and friends are invited to come out in creative spirit to enjoy painting\, music\, fun and meaningful connection.  This free community art series pairs hands-on artistic engagement with live music\, bringing creativity and Portland together on warm summer days in the heart of downtown. Art material provided while supplies last.
URL:https://www.thesquarepdx.org/event/free-art-in-the-park-with-larry-yes-26/2026-06-04/
LOCATION:Pioneer Courthouse Square\, 701 SW 6th Ave.\, Portland\, OR\, 97204\, United States
ATTACH;FMTTYPE=image/jpeg:https://www.thesquarepdx.org/wp-content/uploads/2024/04/Art-in-the-Park-2024-2-Cropped-scaled.jpg
END:VEVENT
BEGIN:VEVENT
DTSTART;TZID=America/Los_Angeles:20260604T120000
DTEND;TZID=America/Los_Angeles:20260604T130000
DTSTAMP:20260421T142723
CREATED:20260219T192405Z
LAST-MODIFIED:20260219T192405Z
UID:21034-1780574400-1780578000@www.thesquarepdx.org
SUMMARY:In Concert on Downtown’s Transit Mall – JoAnna Lee at Pioneer Place
DESCRIPTION:Pop singer-songwriter and guitarist JoAnna Lee will be performing at Pioneer Place on Downtown’s Transit Mall! JoAnna brings a unique array of influences to her rootsy soul sound. When all her friends in grade school were getting into N’SYNC and Britney Spears\, her mother was introducing her to Stevie Wonder. Surrounded by a family full of cousins who all played instruments\, she took naturally to incorporating R&B (her original dream was to be a Motown singer) with her acoustic guitar. \nFor more information\, CLICK HERE. \n 
URL:https://www.thesquarepdx.org/event/in-concert-on-downtowns-transit-mall-joanna-lee-at-pioneer-place-3/
LOCATION:Pioneer Place Main Entrance\, 700 SW 5th Ave\, Portland\, OR\, 97204\, United States
ATTACH;FMTTYPE=image/jpeg:https://www.thesquarepdx.org/wp-content/uploads/2021/07/JoAnna_Lee.jpg
END:VEVENT
BEGIN:VEVENT
DTSTART;TZID=America/Los_Angeles:20260604T120000
DTEND;TZID=America/Los_Angeles:20260604T130000
DTSTAMP:20260421T142723
CREATED:20260417T173110Z
LAST-MODIFIED:20260417T173110Z
UID:21308-1780574400-1780578000@www.thesquarepdx.org
SUMMARY:Noon Tunes Summer Concert Series
DESCRIPTION:The Noon Tunes Summer Concert Series returns to The Square for its 34th year on Tuesdays and Thursdays June 2 – July 30! From Noon-1:00pm enjoy a dynamic mix of homegrown music from some of Portland’s top regional and local musical talent. With 18 FREE concerts\, dancing\, painting at Art in The Park and some of Portland’s favorite food vendors at Carts on the Square\, The Square is Downtown’s summer lunchtime destination.
URL:https://www.thesquarepdx.org/event/noon-tunes-summer-concert-series-5/2026-06-04/
LOCATION:Pioneer Courthouse Square\, 701 SW 6th Ave.\, Portland\, OR\, 97204\, United States
ATTACH;FMTTYPE=image/jpeg:https://www.thesquarepdx.org/wp-content/uploads/2018/06/noontunes.jpg
END:VEVENT
END:VCALENDAR