BEGIN:VCALENDAR
VERSION:2.0
PRODID:-//The Square - ECPv6.15.20//NONSGML v1.0//EN
CALSCALE:GREGORIAN
METHOD:PUBLISH
X-ORIGINAL-URL:https://www.thesquarepdx.org
X-WR-CALDESC:Events for The Square
REFRESH-INTERVAL;VALUE=DURATION:PT1H
X-Robots-Tag:noindex
X-PUBLISHED-TTL:PT1H
BEGIN:VTIMEZONE
TZID:America/Los_Angeles
BEGIN:DAYLIGHT
TZOFFSETFROM:-0800
TZOFFSETTO:-0700
TZNAME:PDT
DTSTART:20250309T100000
END:DAYLIGHT
BEGIN:STANDARD
TZOFFSETFROM:-0700
TZOFFSETTO:-0800
TZNAME:PST
DTSTART:20251102T090000
END:STANDARD
BEGIN:DAYLIGHT
TZOFFSETFROM:-0800
TZOFFSETTO:-0700
TZNAME:PDT
DTSTART:20260308T100000
END:DAYLIGHT
BEGIN:STANDARD
TZOFFSETFROM:-0700
TZOFFSETTO:-0800
TZNAME:PST
DTSTART:20261101T090000
END:STANDARD
BEGIN:DAYLIGHT
TZOFFSETFROM:-0800
TZOFFSETTO:-0700
TZNAME:PDT
DTSTART:20270314T100000
END:DAYLIGHT
BEGIN:STANDARD
TZOFFSETFROM:-0700
TZOFFSETTO:-0800
TZNAME:PST
DTSTART:20271107T090000
END:STANDARD
END:VTIMEZONE
BEGIN:VEVENT
DTSTART;TZID=America/Los_Angeles:20260616T113000
DTEND;TZID=America/Los_Angeles:20260616T133000
DTSTAMP:20260419T084824
CREATED:20240424T215054Z
LAST-MODIFIED:20240424T215054Z
UID:21332-1781609400-1781616600@www.thesquarepdx.org
SUMMARY:Free Art in The Park
DESCRIPTION:The Square and Portland creative Larry Yes partner to bring the program Free Art in The Park to downtown Portland on Tuesdays and Thursdays\, June 2 – July 30. Kids\, adults\, neighbors\, families\, and friends are invited to come out in creative spirit to enjoy painting\, music\, fun and meaningful connection.  This free community art series pairs hands-on artistic engagement with live music\, bringing creativity and Portland together on warm summer days in the heart of downtown. Art material provided while supplies last.
URL:https://www.thesquarepdx.org/event/free-art-in-the-park-with-larry-yes-26/2026-06-16/
LOCATION:Pioneer Courthouse Square\, 701 SW 6th Ave.\, Portland\, OR\, 97204\, United States
ATTACH;FMTTYPE=image/jpeg:https://www.thesquarepdx.org/wp-content/uploads/2024/04/Art-in-the-Park-2024-2-Cropped-scaled.jpg
END:VEVENT
BEGIN:VEVENT
DTSTART;TZID=America/Los_Angeles:20260616T120000
DTEND;TZID=America/Los_Angeles:20260616T130000
DTSTAMP:20260419T084824
CREATED:20260219T193341Z
LAST-MODIFIED:20260219T193341Z
UID:21040-1781611200-1781614800@www.thesquarepdx.org
SUMMARY:In Concert on Downtown’s Transit Mall – The Tide at Sixth+Main
DESCRIPTION:Singer/Songwriters The Tide will be performing at Sixth+Main on Downtown’s Transit Mall!
URL:https://www.thesquarepdx.org/event/in-concert-on-downtowns-transit-mall-the-tide-at-sixthmain-2/
LOCATION:SW 6th Ave & SW Main St\, Portland\, OR 97205\, SW 6th Ave & SW Main St\, Portland\, OR\, 97205\, United States
ATTACH;FMTTYPE=image/jpeg:https://www.thesquarepdx.org/wp-content/uploads/2025/06/Jennfer-OLeary-2025.jpg
END:VEVENT
BEGIN:VEVENT
DTSTART;TZID=America/Los_Angeles:20260616T120000
DTEND;TZID=America/Los_Angeles:20260616T130000
DTSTAMP:20260419T084824
CREATED:20260417T173110Z
LAST-MODIFIED:20260417T173110Z
UID:21311-1781611200-1781614800@www.thesquarepdx.org
SUMMARY:Noon Tunes Summer Concert Series
DESCRIPTION:The Noon Tunes Summer Concert Series returns to The Square for its 34th year on Tuesdays and Thursdays June 2 – July 30! From Noon-1:00pm enjoy a dynamic mix of homegrown music from some of Portland’s top regional and local musical talent. With 18 FREE concerts\, dancing\, painting at Art in The Park and some of Portland’s favorite food vendors at Carts on the Square\, The Square is Downtown’s summer lunchtime destination.
URL:https://www.thesquarepdx.org/event/noon-tunes-summer-concert-series-5/2026-06-16/
LOCATION:Pioneer Courthouse Square\, 701 SW 6th Ave.\, Portland\, OR\, 97204\, United States
ATTACH;FMTTYPE=image/jpeg:https://www.thesquarepdx.org/wp-content/uploads/2018/06/noontunes.jpg
END:VEVENT
BEGIN:VEVENT
DTSTART;TZID=America/Los_Angeles:20260618T113000
DTEND;TZID=America/Los_Angeles:20260618T133000
DTSTAMP:20260419T084824
CREATED:20240424T215054Z
LAST-MODIFIED:20240424T215054Z
UID:21333-1781782200-1781789400@www.thesquarepdx.org
SUMMARY:Free Art in The Park
DESCRIPTION:The Square and Portland creative Larry Yes partner to bring the program Free Art in The Park to downtown Portland on Tuesdays and Thursdays\, June 2 – July 30. Kids\, adults\, neighbors\, families\, and friends are invited to come out in creative spirit to enjoy painting\, music\, fun and meaningful connection.  This free community art series pairs hands-on artistic engagement with live music\, bringing creativity and Portland together on warm summer days in the heart of downtown. Art material provided while supplies last.
URL:https://www.thesquarepdx.org/event/free-art-in-the-park-with-larry-yes-26/2026-06-18/
LOCATION:Pioneer Courthouse Square\, 701 SW 6th Ave.\, Portland\, OR\, 97204\, United States
ATTACH;FMTTYPE=image/jpeg:https://www.thesquarepdx.org/wp-content/uploads/2024/04/Art-in-the-Park-2024-2-Cropped-scaled.jpg
END:VEVENT
BEGIN:VEVENT
DTSTART;TZID=America/Los_Angeles:20260618T120000
DTEND;TZID=America/Los_Angeles:20260618T130000
DTSTAMP:20260419T084824
CREATED:20260219T193852Z
LAST-MODIFIED:20260219T193852Z
UID:21042-1781784000-1781787600@www.thesquarepdx.org
SUMMARY:In Concert on Downtown’s Transit Mall – Anna May at Pendleton
DESCRIPTION:Anna May will be performing at Pendleton on Downtown’s Transit Mall! Originally from Connecticut\, Anna May is a singular artist whose alternative tragic Americana song bear a placelessness that lends to their timeless nature. \n\n\n\n\n\nFor more information\, CLICK HERE.\n\n 
URL:https://www.thesquarepdx.org/event/in-concert-on-downtowns-transit-mall-anna-may-at-pendleton/
LOCATION:Pendleton\, 825 SW Yamhill St\, Portland\, OR\, 97205\, United States
ATTACH;FMTTYPE=image/jpeg:https://www.thesquarepdx.org/wp-content/uploads/2023/02/Anna-May.jpg
END:VEVENT
BEGIN:VEVENT
DTSTART;TZID=America/Los_Angeles:20260618T120000
DTEND;TZID=America/Los_Angeles:20260618T130000
DTSTAMP:20260419T084824
CREATED:20260417T173110Z
LAST-MODIFIED:20260417T173110Z
UID:21312-1781784000-1781787600@www.thesquarepdx.org
SUMMARY:Noon Tunes Summer Concert Series
DESCRIPTION:The Noon Tunes Summer Concert Series returns to The Square for its 34th year on Tuesdays and Thursdays June 2 – July 30! From Noon-1:00pm enjoy a dynamic mix of homegrown music from some of Portland’s top regional and local musical talent. With 18 FREE concerts\, dancing\, painting at Art in The Park and some of Portland’s favorite food vendors at Carts on the Square\, The Square is Downtown’s summer lunchtime destination.
URL:https://www.thesquarepdx.org/event/noon-tunes-summer-concert-series-5/2026-06-18/
LOCATION:Pioneer Courthouse Square\, 701 SW 6th Ave.\, Portland\, OR\, 97204\, United States
ATTACH;FMTTYPE=image/jpeg:https://www.thesquarepdx.org/wp-content/uploads/2018/06/noontunes.jpg
END:VEVENT
BEGIN:VEVENT
DTSTART;TZID=America/Los_Angeles:20260620T110000
DTEND;TZID=America/Los_Angeles:20260620T170000
DTSTAMP:20260419T084824
CREATED:20260311T221518Z
LAST-MODIFIED:20260407T171717Z
UID:21186-1781953200-1781974800@www.thesquarepdx.org
SUMMARY:Active Children Portland Presents The Active Wipeout!
DESCRIPTION:Active Children Portland invites you to release your inner child at the first-ever Active Wipeout! Get ready to run\, jump\, dodge\, and dive your way through high-energy inflatable obstacle courses taking over Pioneer Courthouse Square. \nJoin us June 20th from 11am–5pm for a day packed with laughs\, friendly competition\, and nonstop action. From 11am–1pm\, jump into Free Run: No registration needed\, just show up and play. Then stick around as the stakes rise from 1pm–5pm with our tournament heats\, where speed\, agility\, and bragging rights are on the line (registration and prizes coming soon!). \nWhether you’re chasing victory or just chasing your kids through the course\, Active Wipeout is built for all ages and energy levels. Bring your friends\, bring your family\, and get ready to Wipeout!
URL:https://www.thesquarepdx.org/event/active-children-portland-presents-the-active-whipeout/
LOCATION:Pioneer Courthouse Square\, 701 SW 6th Ave.\, Portland\, OR\, 97204\, United States
ATTACH;FMTTYPE=image/jpeg:https://www.thesquarepdx.org/wp-content/uploads/2026/03/Wipeout-Banner.jpg
END:VEVENT
END:VCALENDAR