BEGIN:VCALENDAR
VERSION:2.0
PRODID:-//The Square - ECPv6.15.20//NONSGML v1.0//EN
CALSCALE:GREGORIAN
METHOD:PUBLISH
X-WR-CALNAME:The Square
X-ORIGINAL-URL:https://www.thesquarepdx.org
X-WR-CALDESC:Events for The Square
REFRESH-INTERVAL;VALUE=DURATION:PT1H
X-Robots-Tag:noindex
X-PUBLISHED-TTL:PT1H
BEGIN:VTIMEZONE
TZID:America/Los_Angeles
BEGIN:DAYLIGHT
TZOFFSETFROM:-0800
TZOFFSETTO:-0700
TZNAME:PDT
DTSTART:20230312T100000
END:DAYLIGHT
BEGIN:STANDARD
TZOFFSETFROM:-0700
TZOFFSETTO:-0800
TZNAME:PST
DTSTART:20231105T090000
END:STANDARD
BEGIN:DAYLIGHT
TZOFFSETFROM:-0800
TZOFFSETTO:-0700
TZNAME:PDT
DTSTART:20240310T100000
END:DAYLIGHT
BEGIN:STANDARD
TZOFFSETFROM:-0700
TZOFFSETTO:-0800
TZNAME:PST
DTSTART:20241103T090000
END:STANDARD
BEGIN:DAYLIGHT
TZOFFSETFROM:-0800
TZOFFSETTO:-0700
TZNAME:PDT
DTSTART:20250309T100000
END:DAYLIGHT
BEGIN:STANDARD
TZOFFSETFROM:-0700
TZOFFSETTO:-0800
TZNAME:PST
DTSTART:20251102T090000
END:STANDARD
BEGIN:DAYLIGHT
TZOFFSETFROM:-0800
TZOFFSETTO:-0700
TZNAME:PDT
DTSTART:20260308T100000
END:DAYLIGHT
BEGIN:STANDARD
TZOFFSETFROM:-0700
TZOFFSETTO:-0800
TZNAME:PST
DTSTART:20261101T090000
END:STANDARD
END:VTIMEZONE
BEGIN:VEVENT
DTSTART;TZID=America/Los_Angeles:20251028T120000
DTEND;TZID=America/Los_Angeles:20251028T130000
DTSTAMP:20260419T075924
CREATED:20250701T223218Z
LAST-MODIFIED:20250701T223218Z
UID:20036-1761652800-1761656400@www.thesquarepdx.org
SUMMARY:In Concert on Downtown’s Transit Mall – Hayley Lynn at Pioneer Place @ Nike
DESCRIPTION:Soulful Singer-Songwriter Hayley Lynn will be performing at Pioneer Place in front of Nike on Downtown’s Transit Mall! \nFor more information\, CLICK HERE.
URL:https://www.thesquarepdx.org/event/in-concert-on-downtowns-transit-mall-hayley-lynn-at-pioneer-place-nike/
LOCATION:Pioneer Place @ Nike\, 700 SW 5th Ave\, Portland\, OR\, 97204\, United States
ATTACH;FMTTYPE=image/jpeg:https://www.thesquarepdx.org/wp-content/uploads/2021/07/Hayley_Lynn.jpg
END:VEVENT
BEGIN:VEVENT
DTSTART;TZID=America/Los_Angeles:20250916T120000
DTEND;TZID=America/Los_Angeles:20250916T130000
DTSTAMP:20260419T075924
CREATED:20250701T213537Z
LAST-MODIFIED:20250701T213537Z
UID:19987-1758024000-1758027600@www.thesquarepdx.org
SUMMARY:In Concert on Downtown’s Transit Mall – Eric John Kaiser at Pioneer Place @ Nike
DESCRIPTION:Eric John Kaiser  will be performing at Pioneer Place in front of Nike on Downtown’s transit mall! Known as The French Troubadour\, Parisian-born Eric John Kaiser is a singer-songwriter reimagining French music through an Americana lens. Eric was born in the southern outskirts of Paris\, in small town called Verrières-le Buisson\, and began learning guitar when he was 10 years old. After years of a classical music education\, he found a teacher that opened him up to the music of the Beatles and Rolling Stones. He began writing songs in his adolescence\, using music as both a diary to channel his experiences and as his personal legacy. After performing over 350 concerts in France\, Eric John Kaiser fell in love with a girl\, a romance which would bring him to Portland\, Oregon where he is currently based. His songs resonate with a genuine Americana rhythm\, like galloping across the vast plains on horseback\, with a western lap steel guitar playing dirty roadhouse blues. \nFor more information\, CLICK HERE. \n 
URL:https://www.thesquarepdx.org/event/in-concert-on-downtowns-transit-mall-eric-john-kaiser-at-pioneer-place-nike/
LOCATION:Pioneer Place @ Nike\, 700 SW 5th Ave\, Portland\, OR\, 97204\, United States
ATTACH;FMTTYPE=image/jpeg:https://www.thesquarepdx.org/wp-content/uploads/2024/04/EJK_photo_3.jpg
END:VEVENT
BEGIN:VEVENT
DTSTART;TZID=America/Los_Angeles:20250821T120000
DTEND;TZID=America/Los_Angeles:20250821T130000
DTSTAMP:20260419T075924
CREATED:20250630T235948Z
LAST-MODIFIED:20250630T235948Z
UID:19975-1755777600-1755781200@www.thesquarepdx.org
SUMMARY:In Concert on Downtown’s Transit Mall – Ben Rice at Pioneer Place
DESCRIPTION:Acoustic Blues guitarist Ben Rice will be will be performing at Pioneer Place at Nike on Downtown’s Transit Mall! \nBen Rice might be described as quiet and unassuming – until he picks up a guitar. That stealthy quality has earned him the moniker “blues ninja\,” evidenced in his vocal chops and songcraft as well as his guitar playing. While Ben started in traditional blues\, over the years he’s built upon that foundation with soul\, R&B\, folk and country to fashion a welcoming front porch where everybody wants to hang out into the wee hours. Since his large-stage debut at the International Blues Challenge in 2014\, Ben has made the leap from Northwest act to national and international touring artist\, featuring at festivals and stages far and wide. \nFor more information\, CLICK HERE.
URL:https://www.thesquarepdx.org/event/in-concert-on-downtowns-transit-mall-ben-rice-at-pioneer-place-2/
LOCATION:Pioneer Place @ Nike\, 700 SW 5th Ave\, Portland\, OR\, 97204\, United States
ATTACH;FMTTYPE=image/jpeg:https://www.thesquarepdx.org/wp-content/uploads/2021/07/Ben_Rice.jpg
END:VEVENT
BEGIN:VEVENT
DTSTART;TZID=America/Los_Angeles:20250729T120000
DTEND;TZID=America/Los_Angeles:20250729T130000
DTSTAMP:20260419T075924
CREATED:20250627T174108Z
LAST-MODIFIED:20250627T174108Z
UID:19854-1753790400-1753794000@www.thesquarepdx.org
SUMMARY:In Concert on Downtown’s Transit Mall – Abigail Krawson at Nike at Pioneer Place
DESCRIPTION:Opera singer Abigail Krawson will be performing at Nike at Pioneer Place on Downtown’s Transit Mall! Opera singer Abigail Krawson will be performing at Pioneer Place on Downtown’s Transit Mall! Acclaimed as “bewitching\,” having “her own soubrette-ish delivery\,” as well as “wringing every bit of sentiment out of her aria\,” Abigail Krawson is garnering critical and audience praise for her energetic and heartfelt operatic portrayals. She is on the roster of both The Portland Opera Chorus and The Portland Symphonic Choir\, the Director of Children and Youth Choirs at Lake Grove Presbyterian Church\, the Communications Director for Renegade Opera\, a private voice and piano teacher\, and also maintains an active solo calendar in and around Portland. \nFor more information\, CLICK HERE.
URL:https://www.thesquarepdx.org/event/in-concert-on-downtowns-transit-mall-abigail-krawson-at-nike-at-pioneer-place/
LOCATION:Pioneer Place @ Nike\, 700 SW 5th Ave\, Portland\, OR\, 97204\, United States
ATTACH;FMTTYPE=image/jpeg:https://www.thesquarepdx.org/wp-content/uploads/2024/02/PMMI_Social-Media_General.jpg
END:VEVENT
BEGIN:VEVENT
DTSTART;TZID=America/Los_Angeles:20250717T120000
DTEND;TZID=America/Los_Angeles:20250717T130000
DTSTAMP:20260419T075924
CREATED:20250627T172547Z
LAST-MODIFIED:20250627T172547Z
UID:19844-1752753600-1752757200@www.thesquarepdx.org
SUMMARY:In Concert on Downtown’s Transit Mall – Machado Mijiga at Nike at Pioneer Place
DESCRIPTION:Classically-trained multi-instrumentalist Machado Mijiga brings his unique brand of hip-hop and electronica-infused remixes to Nike at Pioneer Place on Downtown’s Transit Mall. \nFor more information\, CLICK HERE.
URL:https://www.thesquarepdx.org/event/in-concert-on-downtowns-transit-mall-machado-mijiga-at-nike-at-pioneer-place/
LOCATION:Pioneer Place @ Nike\, 700 SW 5th Ave\, Portland\, OR\, 97204\, United States
ATTACH;FMTTYPE=image/jpeg:https://www.thesquarepdx.org/wp-content/uploads/2024/02/Machado-White-Background-Abby-Gordon-scaled.jpg
END:VEVENT
BEGIN:VEVENT
DTSTART;TZID=America/Los_Angeles:20250703T120000
DTEND;TZID=America/Los_Angeles:20250703T130000
DTSTAMP:20260419T075924
CREATED:20250627T165720Z
LAST-MODIFIED:20250627T165720Z
UID:19838-1751544000-1751547600@www.thesquarepdx.org
SUMMARY:In Concert on Downtown’s Transit Mall – Jet Black Pearl at Nike at Pioneer Place
DESCRIPTION:Accordionist and flautist Jet Black Pearl will be performing at Nike at Pioneer Place on Downtown’s Transit Mall! Jet Black Pearl’s smartly wacky songs sound like a mad hatter’s European tea party with a funky attitude. Before your very eyes\, she creates grooves and loops of flute\, plastic bottles\, rubber pigs\, vocal percussion and harmonies\, while squeezing her red accordion. She also might do a little dance for you. \nFor more information\, CLICK HERE.
URL:https://www.thesquarepdx.org/event/in-concert-on-downtowns-transit-mall-jet-black-pearl-at-nike-at-pioneer-place/
LOCATION:Pioneer Place @ Nike\, 700 SW 5th Ave\, Portland\, OR\, 97204\, United States
ATTACH;FMTTYPE=image/jpeg:https://www.thesquarepdx.org/wp-content/uploads/2021/02/JBP-scaled.jpg
END:VEVENT
BEGIN:VEVENT
DTSTART;TZID=America/Los_Angeles:20240905T120000
DTEND;TZID=America/Los_Angeles:20240905T130000
DTSTAMP:20260419T075924
CREATED:20240708T230320Z
LAST-MODIFIED:20240708T230320Z
UID:18198-1725537600-1725541200@www.thesquarepdx.org
SUMMARY:In Concert on Downtown’s Transit Mall – Hayley Lynn at Pioneer Place
DESCRIPTION:Soulful Singer-Songwriter Hayley Lynn will be at Pioneer Place on Downtown’s Transit Mall! Hayley Lynn planted the seeds of her music career around 2016 in her hometown of Portland\, OR. Her folky roots quickly took shape as she organically emerged with a sound that can be described as sultry\, indie-folk-pop. Over the next two years\, Lynn refined her gripping and raw style while amassing a body of work that achieved successes few songwriters can claim. Her 2018 album\, Bring on the Flames\, was performed to several sold out shows across the Pacific Northwest and had placements on ABC\, Big Ten Network\, 700 Club\, and Netflix Original shows\, “The Pier” and “Money Heist.” \nIn addition to being a hometown favorite\, Lynn is back on the road touring throughout the U.S and Canada with breakthrough performances at festivals and venues such as Red Ants Pants Music Festival\, Oregon Country Fair\, Northwest Folklife\, Golden Gate Park Bandshell\, Hotel Cafe\, Winningstad Theater\, Bloodworks Live Studio\, Mississippi Studios\, and The Old Church Concert Hall. \nFor more information\, CLICK HERE.
URL:https://www.thesquarepdx.org/event/in-concert-on-downtowns-transit-mall-hayley-lynn-at-pioneer-place/
LOCATION:Pioneer Place @ Nike\, 700 SW 5th Ave\, Portland\, OR\, 97204\, United States
ATTACH;FMTTYPE=image/jpeg:https://www.thesquarepdx.org/wp-content/uploads/2021/07/Hayley_Lynn.jpg
END:VEVENT
BEGIN:VEVENT
DTSTART;TZID=America/Los_Angeles:20240730T120000
DTEND;TZID=America/Los_Angeles:20240730T130000
DTSTAMP:20260419T075924
CREATED:20240703T212156Z
LAST-MODIFIED:20240708T202650Z
UID:18170-1722340800-1722344400@www.thesquarepdx.org
SUMMARY:In Concert on Downtown’s Transit Mall –Pablo Rivarola at Pioneer Place
DESCRIPTION:Jazz trumpeter Pablo Rivarola will be performing at Pioneer Place on Downtown’s Transit Mall! \nFor more information\, CLICK HERE
URL:https://www.thesquarepdx.org/event/in-concert-on-downtowns-transit-mall-pablo-rivarola-at-pioneer-place/
LOCATION:Pioneer Place @ Nike\, 700 SW 5th Ave\, Portland\, OR\, 97204\, United States
ATTACH;FMTTYPE=image/jpeg:https://www.thesquarepdx.org/wp-content/uploads/2021/06/Pablo_Rivarola.jpg
END:VEVENT
BEGIN:VEVENT
DTSTART;TZID=America/Los_Angeles:20240716T120000
DTEND;TZID=America/Los_Angeles:20240716T130000
DTSTAMP:20260419T075924
CREATED:20240703T181653Z
LAST-MODIFIED:20240703T181653Z
UID:18158-1721131200-1721134800@www.thesquarepdx.org
SUMMARY:In Concert on Downtown’s Transit Mall – MC Shoehorn at Pioneer Place
DESCRIPTION:MC Shoehorn will be performing at Pioneer Place on Downtown’s Transit Mall! Shoehorn began his musical journey in 1979 as a street performer in New Orleans\, where he got his first pair of tap shoes. He went on to perform in 30 countries and most of the USA\, and has released 6 full-length CDs featuring tap dance on his original compositions and his arrangements of show tunes. He plays a lot of instruments but is best known for simultaneously playing sax and tap dancing. \n 
URL:https://www.thesquarepdx.org/event/in-concert-on-downtowns-transit-mall-mc-shoehorn-at-pioneer-place/
LOCATION:Pioneer Place @ Nike\, 700 SW 5th Ave\, Portland\, OR\, 97204\, United States
ATTACH;FMTTYPE=image/jpeg:https://www.thesquarepdx.org/wp-content/uploads/2021/04/MC_Shoehorn_PDD.jpg
END:VEVENT
BEGIN:VEVENT
DTSTART;TZID=America/Los_Angeles:20240613T120000
DTEND;TZID=America/Los_Angeles:20240613T130000
DTSTAMP:20260419T075924
CREATED:20240313T002449Z
LAST-MODIFIED:20240425T181112Z
UID:17462-1718280000-1718283600@www.thesquarepdx.org
SUMMARY:In Concert on Downtown’s Transit Mall – Abigail Krawson at Pioneer Place
DESCRIPTION:Opera singer Abigail Krawson will be performing at Pioneer Place on Downtown’s Transit Mall! Opera singer Abigail Krawson will be performing at Pioneer Place on Downtown’s Transit Mall! Acclaimed as “bewitching\,” having “her own soubrette-ish delivery\,” as well as “wringing every bit of sentiment out of her aria\,” Abigail Krawson is garnering critical and audience praise for her energetic and heartfelt operatic portrayals. She is on the roster of both The Portland Opera Chorus and The Portland Symphonic Choir\, the Director of Children and Youth Choirs at Lake Grove Presbyterian Church\, the Communications Director for Renegade Opera\, a private voice and piano teacher\, and also maintains an active solo calendar in and around Portland. \nFor more information\, CLICK HERE.
URL:https://www.thesquarepdx.org/event/in-concert-on-downtowns-transit-mall-abigail-krawson-at-pioneer-place/
LOCATION:Pioneer Place @ Nike\, 700 SW 5th Ave\, Portland\, OR\, 97204\, United States
ATTACH;FMTTYPE=image/jpeg:https://www.thesquarepdx.org/wp-content/uploads/2024/02/PMMI_Social-Media_General.jpg
END:VEVENT
BEGIN:VEVENT
DTSTART;TZID=America/Los_Angeles:20240521T120000
DTEND;TZID=America/Los_Angeles:20240521T130000
DTSTAMP:20260419T075924
CREATED:20240314T223737Z
LAST-MODIFIED:20240425T223432Z
UID:17474-1716292800-1716296400@www.thesquarepdx.org
SUMMARY:In Concert on Downtown’s Transit Mall – Machado Mijiga Pioneer Place
DESCRIPTION:Classically-trained multi-instrumentalist Machado Mijiga brings his unique brand of hip-hop and electronica-infused remixes to Downtown’s Transit Mall. \nFor more information\, CLICK HERE.
URL:https://www.thesquarepdx.org/event/in-concert-on-downtowns-transit-mall-machado-mijiga-pioneer-place/
LOCATION:Pioneer Place @ Nike\, 700 SW 5th Ave\, Portland\, OR\, 97204\, United States
ATTACH;FMTTYPE=image/jpeg:https://www.thesquarepdx.org/wp-content/uploads/2024/02/Machado-White-Background-Abby-Gordon-scaled.jpg
END:VEVENT
BEGIN:VEVENT
DTSTART;TZID=America/Los_Angeles:20240423T120000
DTEND;TZID=America/Los_Angeles:20240423T130000
DTSTAMP:20260419T075924
CREATED:20240310T010946Z
LAST-MODIFIED:20240402T233444Z
UID:17434-1713873600-1713877200@www.thesquarepdx.org
SUMMARY:In Concert on Downtown’s Transit Mall – Madeline Ross at Pioneer Place
DESCRIPTION:Opera singer Madeline Ross will be performing at Pioneer Place on Downtown’s Transit Mall! \nMadeline Ross is a “tiny powerful” soprano who was born and raised in Portland\, OR. She is a founder and executive director of Renegade Opera\, Portland’s unconventional opera company\, which creates immersive operatic experiences around Portland focused on accessibility and community engagement. Madeline has performed with Portland Opera and the Oregon Symphony\, and has graced the stages of the Kennedy Center\, the Mozarteum in Salzburg\, Austria\, and Carnegie Hall. She focuses her work on coloratura repertoire and was said to have “effortlessly nailed” the virtuosic high staccato notes of the Queen of the Night in Mozart’s The Magic Flute. \nwww.madelinelross.com | www.renegadeopera.org | @maddysingsopera on instagram and madelinelross on Facebook.
URL:https://www.thesquarepdx.org/event/in-concert-on-downtowns-transit-mall-madeline-ross-at-pioneer-place/
LOCATION:Pioneer Place @ Nike\, 700 SW 5th Ave\, Portland\, OR\, 97204\, United States
ATTACH;FMTTYPE=image/jpeg:https://www.thesquarepdx.org/wp-content/uploads/2024/02/PMMI_Social-Media_General.jpg
END:VEVENT
BEGIN:VEVENT
DTSTART;TZID=America/Los_Angeles:20240305T120000
DTEND;TZID=America/Los_Angeles:20240305T130000
DTSTAMP:20260419T075924
CREATED:20240301T020308Z
LAST-MODIFIED:20240307T005646Z
UID:17386-1709640000-1709643600@www.thesquarepdx.org
SUMMARY:In Concert on Downtown’s Transit Mall – Laryssa Birdseye at Pioneer Place
DESCRIPTION:Indie Pop vocalist Laryssa Birdseye will be performing at Pioneer Place on Downtown’s Transit Mall! \nFor more information\, CLICK HERE
URL:https://www.thesquarepdx.org/event/in-concert-on-downtowns-transit-mall-laryssa-birdseye-at-pioneer-place/
LOCATION:Pioneer Place @ Nike\, 700 SW 5th Ave\, Portland\, OR\, 97204\, United States
ATTACH;FMTTYPE=image/jpeg:https://www.thesquarepdx.org/wp-content/uploads/2021/04/Laryssa-Birdseye_crop.jpg
END:VEVENT
END:VCALENDAR