BEGIN:VCALENDAR
VERSION:2.0
PRODID:-//The Square - ECPv6.15.20//NONSGML v1.0//EN
CALSCALE:GREGORIAN
METHOD:PUBLISH
X-WR-CALNAME:The Square
X-ORIGINAL-URL:https://www.thesquarepdx.org
X-WR-CALDESC:Events for The Square
REFRESH-INTERVAL;VALUE=DURATION:PT1H
X-Robots-Tag:noindex
X-PUBLISHED-TTL:PT1H
BEGIN:VTIMEZONE
TZID:America/Los_Angeles
BEGIN:DAYLIGHT
TZOFFSETFROM:-0800
TZOFFSETTO:-0700
TZNAME:PDT
DTSTART:20200308T100000
END:DAYLIGHT
BEGIN:STANDARD
TZOFFSETFROM:-0700
TZOFFSETTO:-0800
TZNAME:PST
DTSTART:20201101T090000
END:STANDARD
BEGIN:DAYLIGHT
TZOFFSETFROM:-0800
TZOFFSETTO:-0700
TZNAME:PDT
DTSTART:20210314T100000
END:DAYLIGHT
BEGIN:STANDARD
TZOFFSETFROM:-0700
TZOFFSETTO:-0800
TZNAME:PST
DTSTART:20211107T090000
END:STANDARD
BEGIN:DAYLIGHT
TZOFFSETFROM:-0800
TZOFFSETTO:-0700
TZNAME:PDT
DTSTART:20220313T100000
END:DAYLIGHT
BEGIN:STANDARD
TZOFFSETFROM:-0700
TZOFFSETTO:-0800
TZNAME:PST
DTSTART:20221106T090000
END:STANDARD
END:VTIMEZONE
BEGIN:VEVENT
DTSTART;TZID=America/Los_Angeles:20210924T120000
DTEND;TZID=America/Los_Angeles:20210924T130000
DTSTAMP:20260421T140852
CREATED:20210730T193140Z
LAST-MODIFIED:20210813T231217Z
UID:12632-1632484800-1632488400@www.thesquarepdx.org
SUMMARY:Patrick Riordan at Polka Dot Downtown
DESCRIPTION:Patrick Riordan will be performing on the dots at Turner Construction over the lunch hour! \nTo view past Polka Dot Downtown performances visit PolkaDotDowntown.org or follow The Square on Instagram and Facebook.
URL:https://www.thesquarepdx.org/event/patrick-riordan-at-polka-dot-downtown/
LOCATION:Turner Construction\, 430 SW 13th Ave.\, Portland\, OR\, 97205\, United States
ATTACH;FMTTYPE=image/jpeg:https://www.thesquarepdx.org/wp-content/uploads/2021/06/SJW_0685-scaled.jpg
END:VEVENT
BEGIN:VEVENT
DTSTART;TZID=America/Los_Angeles:20210916T143000
DTEND;TZID=America/Los_Angeles:20210916T153000
DTSTAMP:20260421T140852
CREATED:20210813T014002Z
LAST-MODIFIED:20210813T225641Z
UID:12718-1631802600-1631806200@www.thesquarepdx.org
SUMMARY:MC Shoehorn at Polka Dot Downtown
DESCRIPTION:MC Shoehorn will be performing on the dots at Turner Construction over the lunch hour! \nTo view past Polka Dot Downtown performances visit PolkaDotDowntown.org or follow The Square on Instagram and Facebook.
URL:https://www.thesquarepdx.org/event/mc-shoehorn-at-polka-dot-downtown-11/
LOCATION:Turner Construction\, 430 SW 13th Ave.\, Portland\, OR\, 97205\, United States
ATTACH;FMTTYPE=image/jpeg:https://www.thesquarepdx.org/wp-content/uploads/2021/04/MC_Shoehorn_PDD.jpg
END:VEVENT
BEGIN:VEVENT
DTSTART;TZID=America/Los_Angeles:20210826T160000
DTEND;TZID=America/Los_Angeles:20210826T170000
DTSTAMP:20260421T140852
CREATED:20210812T235436Z
LAST-MODIFIED:20210813T194922Z
UID:12709-1629993600-1629997200@www.thesquarepdx.org
SUMMARY:Jordan Sings at Polka Dot Downtown
DESCRIPTION:Soulful vocalist and guitarist Jordan Sings will be performing on the dots at Turner Construction on Thursday afternoon! \nTo view past Polka Dot Downtown performances visit PolkaDotDowntown.org or follow The Square on Instagram and Facebook.
URL:https://www.thesquarepdx.org/event/jordan-sings-at-polka-dot-downtown-8/
LOCATION:Turner Construction\, 430 SW 13th Ave.\, Portland\, OR\, 97205\, United States
ATTACH;FMTTYPE=image/jpeg:https://www.thesquarepdx.org/wp-content/uploads/2021/03/Jordan_2.jpg
END:VEVENT
BEGIN:VEVENT
DTSTART;TZID=America/Los_Angeles:20210812T160000
DTEND;TZID=America/Los_Angeles:20210812T170000
DTSTAMP:20260421T140852
CREATED:20210709T022250Z
LAST-MODIFIED:20210812T235314Z
UID:12377-1628784000-1628787600@www.thesquarepdx.org
SUMMARY:RESCHEDULED - Jordan Sings at Polka Dot Downtown
DESCRIPTION:THIS EVENT HAS BEEN RESCHEDULED DUE TO INCLIMENT WEATHER. Rescheduled date 8/26/21. \n  \nSoulful vocalist and guitarist Jordan Sings will be performing on the dots at Turner Construction on Thursday afternoon! \nPerformances will be shared virtually on Facebook\, Instagram\, and at PolkaDotDowntown.org.
URL:https://www.thesquarepdx.org/event/jordan-sings-at-polka-dot-downtown-7/
LOCATION:Turner Construction\, 430 SW 13th Ave.\, Portland\, OR\, 97205\, United States
ATTACH;FMTTYPE=image/jpeg:https://www.thesquarepdx.org/wp-content/uploads/2021/03/Jordan_2.jpg
END:VEVENT
BEGIN:VEVENT
DTSTART;TZID=America/Los_Angeles:20210722T163000
DTEND;TZID=America/Los_Angeles:20210722T173000
DTSTAMP:20260421T140852
CREATED:20210717T191612Z
LAST-MODIFIED:20210720T000411Z
UID:12461-1626971400-1626975000@www.thesquarepdx.org
SUMMARY:Ben Rice at Polka Dot Downtown
DESCRIPTION:Ben Rice will be performing on the dots at Turner Construction SW 12 & Washington for happy hour! \nPerformances will be shared virtually on Facebook\, Instagram\, and at PolkaDotDowntown.org.
URL:https://www.thesquarepdx.org/event/ben-rice/
LOCATION:Turner Construction\, 430 SW 13th Ave.\, Portland\, OR\, 97205\, United States
ATTACH;FMTTYPE=image/jpeg:https://www.thesquarepdx.org/wp-content/uploads/2021/07/Ben_Rice.jpg
END:VEVENT
END:VCALENDAR